BEGIN:VCALENDAR
VERSION:2.0
PRODID:-//Gumptown Magazine - ECPv6.15.20//NONSGML v1.0//EN
CALSCALE:GREGORIAN
METHOD:PUBLISH
X-ORIGINAL-URL:https://gumptownmag.com
X-WR-CALDESC:Events for Gumptown Magazine
REFRESH-INTERVAL;VALUE=DURATION:PT1H
X-Robots-Tag:noindex
X-PUBLISHED-TTL:PT1H
BEGIN:VTIMEZONE
TZID:UTC
BEGIN:STANDARD
TZOFFSETFROM:+0000
TZOFFSETTO:+0000
TZNAME:UTC
DTSTART:20240101T000000
END:STANDARD
END:VTIMEZONE
BEGIN:VEVENT
DTSTART;TZID=UTC:20250628T140000
DTEND;TZID=UTC:20250628T180000
DTSTAMP:20260423T093616
CREATED:20250606T163001Z
LAST-MODIFIED:20250606T163001Z
UID:24419-1751119200-1751133600@gumptownmag.com
SUMMARY:Summer in the City Block Party
DESCRIPTION:
URL:https://gumptownmag.com/event/summer-in-the-city-block-party/
LOCATION:Vaughn Road Park\, 3620 Vaughn Road\, Montgomery\, AL\, United States
ATTACH;FMTTYPE=image/jpeg:https://gumptownmag.com/wp-content/uploads/2025/06/504710066_1254200356710723_5619159808749571373_n.jpg
END:VEVENT
BEGIN:VEVENT
DTSTART;TZID=UTC:20250628T140000
DTEND;TZID=UTC:20250628T200000
DTSTAMP:20260423T093616
CREATED:20250606T164616Z
LAST-MODIFIED:20250606T164616Z
UID:24430-1751119200-1751140800@gumptownmag.com
SUMMARY:Western Hills Neighborhood Reunion
DESCRIPTION:
URL:https://gumptownmag.com/event/western-hills-neighborhood-reunion/
LOCATION:Western Hills Park\, 2325 Clarence Lee Drive\, Montgomery\, AL\, 36108\, United States
ATTACH;FMTTYPE=image/jpeg:https://gumptownmag.com/wp-content/uploads/2025/06/503855313_1254200520044040_463379073225580138_n.jpg
END:VEVENT
END:VCALENDAR