BEGIN:VCALENDAR
VERSION:2.0
PRODID:-//Gumptown Magazine - ECPv6.15.20//NONSGML v1.0//EN
CALSCALE:GREGORIAN
METHOD:PUBLISH
X-WR-CALNAME:Gumptown Magazine
X-ORIGINAL-URL:https://gumptownmag.com
X-WR-CALDESC:Events for Gumptown Magazine
REFRESH-INTERVAL;VALUE=DURATION:PT1H
X-Robots-Tag:noindex
X-PUBLISHED-TTL:PT1H
BEGIN:VTIMEZONE
TZID:UTC
BEGIN:STANDARD
TZOFFSETFROM:+0000
TZOFFSETTO:+0000
TZNAME:UTC
DTSTART:20240101T000000
END:STANDARD
END:VTIMEZONE
BEGIN:VEVENT
DTSTART;TZID=UTC:20250927T080000
DTEND;TZID=UTC:20250927T143000
DTSTAMP:20260421T102612
CREATED:20250916T211248Z
LAST-MODIFIED:20250916T211248Z
UID:24657-1758960000-1758983400@gumptownmag.com
SUMMARY:Spirit of Wellness Conference for Veterans/Military Families
DESCRIPTION:
URL:https://gumptownmag.com/event/spirit-of-wellness-conference-for-veterans-military-families/
LOCATION:South University\, 5355 Vaughn Road\, Montgomery\, AL\, 36116\, United States
ATTACH;FMTTYPE=image/jpeg:https://gumptownmag.com/wp-content/uploads/2025/09/spirit-of-wellness-conference.jpg
END:VEVENT
BEGIN:VEVENT
DTSTART;TZID=UTC:20250927T080000
DTEND;TZID=UTC:20250927T170000
DTSTAMP:20260421T102612
CREATED:20250922T195723Z
LAST-MODIFIED:20250922T195723Z
UID:24676-1758960000-1758992400@gumptownmag.com
SUMMARY:Blessings on the Block
DESCRIPTION:
URL:https://gumptownmag.com/event/blessings-on-the-block/
LOCATION:Mercy House\, 2412 Council Street\, Montgomery\, AL\, 36108\, United States
ATTACH;FMTTYPE=image/jpeg:https://gumptownmag.com/wp-content/uploads/2025/09/1000012373.jpg
END:VEVENT
BEGIN:VEVENT
DTSTART;TZID=UTC:20250927T090000
DTEND;TZID=UTC:20250927T113000
DTSTAMP:20260421T102612
CREATED:20250922T200145Z
LAST-MODIFIED:20250922T200145Z
UID:24681-1758963600-1758972600@gumptownmag.com
SUMMARY:Men's Fellowship Breakfast
DESCRIPTION:
URL:https://gumptownmag.com/event/mens-fellowship-breakfast/
LOCATION:New Life Baptist Church\, 1943 Rosa Parks\, Montgomery\, AL\, 36108\, United States
ATTACH;FMTTYPE=image/jpeg:https://gumptownmag.com/wp-content/uploads/2025/09/1000014248.jpg
END:VEVENT
END:VCALENDAR