BEGIN:VCALENDAR
VERSION:2.0
PRODID:-//Gumptown Magazine - ECPv6.15.20//NONSGML v1.0//EN
CALSCALE:GREGORIAN
METHOD:PUBLISH
X-WR-CALNAME:Gumptown Magazine
X-ORIGINAL-URL:https://gumptownmag.com
X-WR-CALDESC:Events for Gumptown Magazine
REFRESH-INTERVAL;VALUE=DURATION:PT1H
X-Robots-Tag:noindex
X-PUBLISHED-TTL:PT1H
BEGIN:VTIMEZONE
TZID:UTC
BEGIN:STANDARD
TZOFFSETFROM:+0000
TZOFFSETTO:+0000
TZNAME:UTC
DTSTART:20230101T000000
END:STANDARD
END:VTIMEZONE
BEGIN:VEVENT
DTSTART;TZID=UTC:20250531T100000
DTEND;TZID=UTC:20250531T140000
DTSTAMP:20260419T180046
CREATED:20250430T212324Z
LAST-MODIFIED:20250430T212324Z
UID:24330-1748685600-1748700000@gumptownmag.com
SUMMARY:Breast Cancer Awareness Bash
DESCRIPTION:The City of Montgomery Parks and Recreation Department\, in collaboration with the local volunteer group Touched by Angels\, invites the community to wear pink and participate in the first inaugural family-friendly event for Breast Cancer Awareness. This exciting event will take place at Woodmere Park\, located at 5881\nWoodmere Blvd\, on May 31\, 2025\, from 10 a.m. to 2 p.m. \nAttendees can look forward to a day filled with food trucks\, local vendors\, live music\,\nand fellowship. There will be activities for children\, including inflatables\, as well as\nvaluable breast cancer information and resources. This free event aims to bring\nawareness and remembrance to the community while fostering a spirit of togetherness. \nA highlight of the event will be the Driving Hope Mobile Mammogram Bus\, which will be\non-site offering free mammograms to attendees. This initiative underscores the\nimportance of early detection and provides a vital resource for those in need. \nThe event is pet-friendly\, so feel free to bring your leashed pets along! Guests are\nencouraged to bring chairs\, picnics\, small coolers\, and more to enjoy a comfortable day\nin the park. Security will be present to ensure a safe and enjoyable experience for\neveryone.
URL:https://gumptownmag.com/event/breast-cancer-awareness-bash/
LOCATION:Woodmere Park\, 5881 Woodmere Blvd\, Montgomery\, AL\, United States
ATTACH;FMTTYPE=image/jpeg:https://gumptownmag.com/wp-content/uploads/2025/04/BreastCancerAwareness-Bash-page-001.jpg
END:VEVENT
BEGIN:VEVENT
DTSTART;TZID=UTC:20250517T140000
DTEND;TZID=UTC:20250517T170000
DTSTAMP:20260419T180046
CREATED:20250429T002525Z
LAST-MODIFIED:20250429T002525Z
UID:24314-1747490400-1747501200@gumptownmag.com
SUMMARY:R.O.S.S. Recovery Fair Spring Fling
DESCRIPTION:
URL:https://gumptownmag.com/event/r-o-s-s-recovery-fair-spring-fling/
LOCATION:Oak Prk\, 1010 Forest Avenue\, Montgomery\, AL\, 36106
ATTACH;FMTTYPE=image/jpeg:https://gumptownmag.com/wp-content/uploads/2025/04/ross.jpg
END:VEVENT
BEGIN:VEVENT
DTSTART;TZID=UTC:20250517T110000
DTEND;TZID=UTC:20250517T140000
DTSTAMP:20260419T180046
CREATED:20250430T211833Z
LAST-MODIFIED:20250430T211833Z
UID:24326-1747479600-1747490400@gumptownmag.com
SUMMARY:2nd Annual Food and Grooves Mayfest
DESCRIPTION:The City of Montgomery Parks and Recreation Department is excited to announce the return of the 2nd Annual Food & Grooves Mayfest\, a vibrant celebration of food\, entertainment\, and community spirit. This year’s event will take place on May 17 from 11 a.m. to 2 p.m. at the Rotary Dog Park downtown.\nMayfest promises to be a fun-filled day for families and friends\, featuring a variety of\nfood trucks\, live entertainment\, and local vendors. \nAttendees are welcome to bring lawn chairs and small coolers to enjoy a relaxing day in the park. The event is family and dog-friendly\, with pets welcome on leashes. \nVisit FunInMontgomery.com or call 334-625-4747
URL:https://gumptownmag.com/event/2nd-annual-food-and-grooves-mayfest/
LOCATION:Rotary Park\, 98 Coosa Street\, Montgomery\, AL\, 36104\, United States
ATTACH;FMTTYPE=image/jpeg:https://gumptownmag.com/wp-content/uploads/2025/04/Mayfest2025-page-001-scaled.jpg
END:VEVENT
BEGIN:VEVENT
DTSTART;TZID=UTC:20250510T100000
DTEND;TZID=UTC:20250510T150000
DTSTAMP:20260419T180046
CREATED:20250430T213416Z
LAST-MODIFIED:20250430T213416Z
UID:24334-1746871200-1746889200@gumptownmag.com
SUMMARY:Sheridan Hts Community Center Ribbon Cutting
DESCRIPTION:
URL:https://gumptownmag.com/event/sheridan-hts-community-center-ribbon-cutting/
LOCATION:Sheridan Hts Community Center\, 3501 Faro Drive\, Montgomery\, AL\, 36110\, United States
ATTACH;FMTTYPE=image/jpeg:https://gumptownmag.com/wp-content/uploads/2025/04/seridan-hts.jpg
END:VEVENT
BEGIN:VEVENT
DTSTART;TZID=UTC:20250509T090000
DTEND;TZID=UTC:20250509T120000
DTSTAMP:20260419T180046
CREATED:20250429T010715Z
LAST-MODIFIED:20250429T010715Z
UID:24320-1746781200-1746792000@gumptownmag.com
SUMMARY:Lowndes County Public Schools Job Fair
DESCRIPTION:
URL:https://gumptownmag.com/event/lowndes-county-public-schools-job-fair/
LOCATION:Lowndes County BOE\, 80 Commerce Street\, Hayneville\, AL\, 36040\, United States
ATTACH;FMTTYPE=image/jpeg:https://gumptownmag.com/wp-content/uploads/2025/04/492369977_1219421370188622_703856596254959155_n.jpg
END:VEVENT
BEGIN:VEVENT
DTSTART;TZID=UTC:20250504T120000
DTEND;TZID=UTC:20250504T160000
DTSTAMP:20260419T180046
CREATED:20250429T005842Z
LAST-MODIFIED:20250429T005842Z
UID:24317-1746360000-1746374400@gumptownmag.com
SUMMARY:Sunday Brunch
DESCRIPTION:
URL:https://gumptownmag.com/event/sunday-brunch-2/
LOCATION:The Nest at ASU Stadium\, 1525 Harris Way\, Montgomery\, AL\, United States
ATTACH;FMTTYPE=image/jpeg:https://gumptownmag.com/wp-content/uploads/2025/04/491959825_1219421463521946_1862198862551932242_n.jpg
END:VEVENT
BEGIN:VEVENT
DTSTART;TZID=UTC:20250503T100000
DTEND;TZID=UTC:20250503T180000
DTSTAMP:20260419T180046
CREATED:20250430T230723Z
LAST-MODIFIED:20250430T230723Z
UID:24343-1746266400-1746295200@gumptownmag.com
SUMMARY:20th Carver Festival
DESCRIPTION:
URL:https://gumptownmag.com/event/20th-carver-festival/
LOCATION:Tuskegee Town Square\, Tuskegee\, AL\, 36083\, United States
ATTACH;FMTTYPE=image/jpeg:https://gumptownmag.com/wp-content/uploads/2025/04/FB_IMG_1745967254903.jpg
END:VEVENT
BEGIN:VEVENT
DTSTART;TZID=UTC:20250426T073000
DTEND;TZID=UTC:20250426T110000
DTSTAMP:20260419T180046
CREATED:20250325T125206Z
LAST-MODIFIED:20250325T125206Z
UID:24249-1745652600-1745665200@gumptownmag.com
SUMMARY:Grove MGM 5K Run and Walk
DESCRIPTION:
URL:https://gumptownmag.com/event/grove-mgm-5k-run-and-walk/
LOCATION:559 South Hull Street\, 559 South Hull Street\, Montgomery\, AL\, 36111\, United States
ATTACH;FMTTYPE=image/png:https://gumptownmag.com/wp-content/uploads/2025/03/Grove-MGM-Run-Flyer-42-x-42-cm.png
END:VEVENT
BEGIN:VEVENT
DTSTART;TZID=UTC:20250425T173000
DTEND;TZID=UTC:20250425T203000
DTSTAMP:20260419T180046
CREATED:20250410T182153Z
LAST-MODIFIED:20250410T182153Z
UID:24277-1745602200-1745613000@gumptownmag.com
SUMMARY:Teen Rep Your Team Party
DESCRIPTION:The City of Montgomery’s Parks and Recreation Department is hosting its\nnext event in the Teen Social Series on April 25\, 2025 at 5:30pm-8:30pm at the newly renovated\nChisholm Community Center. The theme for the teen social is ‘Rep Your Team’ and will be a\ntailgating style sports party for teens ages 13-17. Teens are invited to partake in tailgating\nthemed food and snacks\, games\, music and more. It will be a night to remember and everyone is\ninvited to wear their favorite team’s colors\, their favorite athlete’s jersey or their favorite team’s\nswag. Security and staff will be on site to keep everyone safe and happy.
URL:https://gumptownmag.com/event/teen-rep-your-team-party/
LOCATION:Chisholm Community Center\, 545 East Vandiver\, Montgomery\, AL\, 36110\, United States
ATTACH;FMTTYPE=image/png:https://gumptownmag.com/wp-content/uploads/2025/04/RepYourTeam-1.png
END:VEVENT
BEGIN:VEVENT
DTSTART;TZID=UTC:20250413T140000
DTEND;TZID=UTC:20250413T160000
DTSTAMP:20260419T180046
CREATED:20250331T210305Z
LAST-MODIFIED:20250331T210305Z
UID:24265-1744552800-1744560000@gumptownmag.com
SUMMARY:St. John's AME Church Spring Fling
DESCRIPTION:St. John’s African Methodist Episcopal Church (Montgomery) invites you to attend\ntheir Spring Fling 2025 on Palm Sunday\, April 13th from 2pm to 4pm (Rain or Shine) in\ntheir Christian Life Center. St. John’s will be spreading the Good News – Jesus is\nalive! Join this fun-filled evangelistic\, community outreach with food\, live music and\nmore. Admission is FREE. St. John’s is located at 807 Madison Avenue\, Montgomery\,\nAL 36104. For more information\, contact the church office @ (334)265-4136. Visit\ntheir website at www.saintjohnsame.com to subscribe to receive email\nannouncements from the church.
URL:https://gumptownmag.com/event/st-johns-ame-church-spring-fling/
LOCATION:St. John’s AME Church\, 807 Madison Avenue\, Montgomery\, AL\, 36104\, United States
ATTACH;FMTTYPE=image/png:https://gumptownmag.com/wp-content/uploads/2025/03/Spring-Fling-Graphic.png
END:VEVENT
BEGIN:VEVENT
DTSTART;TZID=UTC:20250412T160000
DTEND;TZID=UTC:20250412T230000
DTSTAMP:20260419T180046
CREATED:20250325T124019Z
LAST-MODIFIED:20250325T124019Z
UID:24239-1744473600-1744498800@gumptownmag.com
SUMMARY:Boots and Dukes Blues Show
DESCRIPTION:
URL:https://gumptownmag.com/event/boots-and-dukes-blues-show/
LOCATION:The Downs Place\, 1488 County Road 127\, Billingsley\, AL\, 36006\, United States
ATTACH;FMTTYPE=image/jpeg:https://gumptownmag.com/wp-content/uploads/2025/03/IMG_4990-1.jpeg
END:VEVENT
BEGIN:VEVENT
DTSTART;TZID=UTC:20250412T110000
DTEND;TZID=UTC:20250412T230000
DTSTAMP:20260419T180046
CREATED:20250225T205134Z
LAST-MODIFIED:20250225T205321Z
UID:24199-1744455600-1744498800@gumptownmag.com
SUMMARY:Central Alabama Soul Fun Fest
DESCRIPTION:
URL:https://gumptownmag.com/event/central-alabama-soul-fun-fest/
LOCATION:Riverwalk Stadium\, 200 Coosa Street\, Montgoomery\, AL\, United States
ATTACH;FMTTYPE=image/jpeg:https://gumptownmag.com/wp-content/uploads/2025/02/480710769_1165961145534645_5464797446372013833_n.jpg
END:VEVENT
BEGIN:VEVENT
DTSTART;TZID=UTC:20250412T070000
DTEND;TZID=UTC:20250412T100000
DTSTAMP:20260419T180046
CREATED:20250312T005816Z
LAST-MODIFIED:20250312T005816Z
UID:24212-1744441200-1744452000@gumptownmag.com
SUMMARY:All Cancer Colors Matter Walk
DESCRIPTION:
URL:https://gumptownmag.com/event/all-cancer-colors-matter-walk/
LOCATION:Blount Cutural Park\, 1 Festival Drive\, Montgomery\, AL\, 36117\, United States
ATTACH;FMTTYPE=image/jpeg:https://gumptownmag.com/wp-content/uploads/2025/03/cancer-walk.jpg
END:VEVENT
BEGIN:VEVENT
DTSTART;TZID=UTC:20250406T120000
DTEND;TZID=UTC:20250406T160000
DTSTAMP:20260419T180046
CREATED:20250325T124553Z
LAST-MODIFIED:20250325T124553Z
UID:24246-1743940800-1743955200@gumptownmag.com
SUMMARY:Sunday Brunch
DESCRIPTION:Join us for an unforgettable Sunday Brunch at The Nest!\n\n\n \nMark your calendars for April 6th from 12 PM to 4 PM and indulge in a delightful feast for just $45! Enjoy **complimentary mimosas** from 12 PM to 1 PM\, and savor all-you-care-to-eat deliciousness while soaking up the vibrant patio vibes.\n\n\n \nWith a live DJ setting the perfect mood\, you won’t want to miss this chance to experience the ambiance at the most exclusive venue in the city!\n\n\n \nTag your brunch crew and get ready for a Sunday Funday like no other! See you at The Nest!
URL:https://gumptownmag.com/event/sunday-brunch/
LOCATION:The Nest at ASU Stadium\, 1525 Harris Way\, Montgomery\, AL\, United States
ATTACH;FMTTYPE=image/jpeg:https://gumptownmag.com/wp-content/uploads/2025/03/nest-brucnh.jpg
END:VEVENT
BEGIN:VEVENT
DTSTART;TZID=UTC:20250405T100000
DTEND;TZID=UTC:20250405T130000
DTSTAMP:20260419T180046
CREATED:20250224T175342Z
LAST-MODIFIED:20250224T175342Z
UID:24193-1743847200-1743858000@gumptownmag.com
SUMMARY:Summer Program Registration
DESCRIPTION:The City of Montgomery Parks and Recreation Department is hosting its annual Summer Program Registration Event on April 5 from 10AM-1PM at Oak Park\, 1010 Forest Ave. This exciting event will offer family-friendly activities such as inflatables\, games\, food\, and a range of vendors to explore. Registration booths will be available to register for the Summer Program. \nThe Summer Program runs from June 2 to July 25 and is $40 per child or teen. Children and teens aged 6-17 will enjoy activities such as arts and crafts\, open gym time\, special events\, field trips and much more. The Goodwyn Community Center is the only location available for teens aged 13-17. \nFor more information or to register\, see Funinmontgomery.com or call 334-625-2300. \nEvent details\nWHAT: Summer Program Registration Event\nWHERE: Oak Park\, 1010 Forest Ave.\nDATE: April 5\, 2025 10AM-1PM
URL:https://gumptownmag.com/event/summer-program-registration/
LOCATION:Oak Prk\, 1010 Forest Avenue\, Montgomery\, AL\, 36106
ATTACH;FMTTYPE=image/png:https://gumptownmag.com/wp-content/uploads/2025/02/summer-registration-event-1.png
END:VEVENT
BEGIN:VEVENT
DTSTART;TZID=UTC:20250329T180000
DTEND;TZID=UTC:20250329T223000
DTSTAMP:20260419T180046
CREATED:20250225T205548Z
LAST-MODIFIED:20250225T205548Z
UID:24202-1743271200-1743287400@gumptownmag.com
SUMMARY:Mystic Masquerade Gala
DESCRIPTION:
URL:https://gumptownmag.com/event/mystic-masquerade-gala/
LOCATION:Wynlakes\, 7900 Wynlakes Blvd\, Montgomery\, AL\, 36117
ATTACH;FMTTYPE=image/jpeg:https://gumptownmag.com/wp-content/uploads/2025/02/480687930_1162481162549310_90782145176309469_n.jpg
END:VEVENT
BEGIN:VEVENT
DTSTART;TZID=UTC:20250321T120000
DTEND;TZID=UTC:20250321T170000
DTSTAMP:20260419T180046
CREATED:20250224T173646Z
LAST-MODIFIED:20250224T173646Z
UID:24189-1742558400-1742576400@gumptownmag.com
SUMMARY:Minority Business Exhibition
DESCRIPTION:The City of Montgomery Parks and Recreation Department is hosting a Minority Business Exhibition at the Tracy Larkin Community Center on March 21 from 12 PM- 5 PM. This event is designed for local business owners to network\, showcase their business or services\, and promote their products. The public is welcome to attend to learn about what local businesses have to offer. Please note\, no products will be sold on site\, and it is not a job fair. \nAll businesses must register by March 17 to participate. Tables and chairs will be provided and light refreshments will be served. For more information or to register your business for participation\, please call 334-240-4558. \nEvent details\nWHAT: Minority Business Exhibition\nWHERE: Tracy Larkin Community Center\, 814 E. Claremont Ave.\nDATE: March 21\, 2025 12 PM-5 PM
URL:https://gumptownmag.com/event/minority-business-exhibition/
LOCATION:Tracy Larkin Community Center\, 814 E. Claremont Ave\, Montgomery\, AL\, United States
ATTACH;FMTTYPE=image/png:https://gumptownmag.com/wp-content/uploads/2025/02/MinorityBusinessExpo2025-1.png
END:VEVENT
BEGIN:VEVENT
DTSTART;TZID=UTC:20250305T083000
DTEND;TZID=UTC:20250305T130000
DTSTAMP:20260419T180046
CREATED:20250129T185848Z
LAST-MODIFIED:20250129T190144Z
UID:24115-1741163400-1741179600@gumptownmag.com
SUMMARY:Alabama Recovery Advocacy Day
DESCRIPTION:Mark your calendars! The second annual Alabama Recovery Advocacy Day is set for March 5\, 2025 in Montgomery! Hosted by the Alabama Alliance for Recovery Residences in partnership with the Alabama Bureau of Pardons and Paroles\, ALRAD serves as a platform to raise awareness about the importance of recovery\, share resources\, and advocate for addiction recovery support. \nThis event will bring together people from all walks of life\, including recovery advocates\, justice-involved individuals\, policymakers\, and those who have been dedicated to making Alabama a more inclusive and supportive state for all. \nLast year\, Alabama Governor Kay Ivey led a public celebration for the inaugural Alabama Recovery Advocacy Day as it was the first in a series of annual events hosted in Montgomery\, bringing the recovery community and partners together to connect with state leaders and government officials. \nEvents begin at 8:30 a.m. at the Multiplex at Cramton Bowl with presentations by recovery organizations on how they help people with substance use disorder find recovery and support. In addition\, individuals who have experienced recovery from substance use disorder will be sharing their personal stories of life change. \nVisit www.alrad.info for more information about the event\, including registration details and updates.
URL:https://gumptownmag.com/event/alabama-recovery-advocacy-day/
LOCATION:Multiplex\, 220 Hall Street\, Montgomery
ATTACH;FMTTYPE=image/jpeg:https://gumptownmag.com/wp-content/uploads/2025/01/image003-2.jpg
END:VEVENT
BEGIN:VEVENT
DTSTART;TZID=UTC:20250302T120000
DTEND;TZID=UTC:20250302T160000
DTSTAMP:20260419T180046
CREATED:20250213T190852Z
LAST-MODIFIED:20250213T190852Z
UID:24175-1740916800-1740931200@gumptownmag.com
SUMMARY:ASU Alumni Brunch
DESCRIPTION:For reservations call 334-229-5176.
URL:https://gumptownmag.com/event/asu-alumni-brunch/
LOCATION:The Nest at ASU Stadium\, 1525 Harris Way\, Montgomery\, AL\, United States
ATTACH;FMTTYPE=image/jpeg:https://gumptownmag.com/wp-content/uploads/2025/02/brunch.jpg
END:VEVENT
BEGIN:VEVENT
DTSTART;TZID=UTC:20250223T123000
DTEND;TZID=UTC:20250223T150000
DTSTAMP:20260419T180046
CREATED:20250203T224749Z
LAST-MODIFIED:20250203T224749Z
UID:24143-1740313800-1740322800@gumptownmag.com
SUMMARY:Community Black History Program
DESCRIPTION:
URL:https://gumptownmag.com/event/community-black-history-program/
LOCATION:Southside Church of Christ\, 3388 S Hull Street\, Montgomery\, AL\, United States
ATTACH;FMTTYPE=image/jpeg:https://gumptownmag.com/wp-content/uploads/2025/02/475925224_628194216451969_4467552012941860800_n.jpg
END:VEVENT
BEGIN:VEVENT
DTSTART;TZID=UTC:20250221T170000
DTEND;TZID=UTC:20250221T210000
DTSTAMP:20260419T180046
CREATED:20250129T184934Z
LAST-MODIFIED:20250129T184934Z
UID:24111-1740157200-1740171600@gumptownmag.com
SUMMARY:Teen Black Out
DESCRIPTION:Food\, games\, and music. Ages 13-17. 
URL:https://gumptownmag.com/event/teen-black-out/
LOCATION:Highland Gardens Community Center\, 2805 Wileena AVe\, Montgomery\, AL\, United States
ATTACH;FMTTYPE=image/png:https://gumptownmag.com/wp-content/uploads/2025/01/Blackout-Party-Highland-Gardens.png
END:VEVENT
BEGIN:VEVENT
DTSTART;TZID=UTC:20250220T180000
DTEND;TZID=UTC:20250220T220000
DTSTAMP:20260419T180046
CREATED:20250213T191521Z
LAST-MODIFIED:20250213T191521Z
UID:24178-1740074400-1740088800@gumptownmag.com
SUMMARY:Business Meet and Greet
DESCRIPTION:
URL:https://gumptownmag.com/event/business-meet-and-greet/
LOCATION:The Nest at ASU Stadium\, 1525 Harris Way\, Montgomery\, AL\, United States
ATTACH;FMTTYPE=image/jpeg:https://gumptownmag.com/wp-content/uploads/2025/02/476855354_1154493493348077_6693065702271131726_n.jpg
END:VEVENT
BEGIN:VEVENT
DTSTART;TZID=UTC:20250208T140000
DTEND;TZID=UTC:20250208T170000
DTSTAMP:20260419T180046
CREATED:20241219T182137Z
LAST-MODIFIED:20241219T182137Z
UID:24058-1739023200-1739034000@gumptownmag.com
SUMMARY:Blossom
DESCRIPTION:For tickets and more information call 334-777-7751.
URL:https://gumptownmag.com/event/blossom/
LOCATION:Mariott Prattville\, 2500 Legends Circle\, Prattville\, AL\, United States
ATTACH;FMTTYPE=image/jpeg:https://gumptownmag.com/wp-content/uploads/2024/12/1000007661.jpg
END:VEVENT
BEGIN:VEVENT
DTSTART;TZID=UTC:20250126T093000
DTEND;TZID=UTC:20250126T120000
DTSTAMP:20260419T180046
CREATED:20241219T181350Z
LAST-MODIFIED:20241219T181350Z
UID:24049-1737883800-1737892800@gumptownmag.com
SUMMARY:14th Annual College Day
DESCRIPTION:
URL:https://gumptownmag.com/event/14th-annual-college-day/
LOCATION:Pilgrim Rest\, 1550 East Washington\, Montgomery\, AL\, 36107\, United States
ATTACH;FMTTYPE=image/jpeg:https://gumptownmag.com/wp-content/uploads/2024/12/1000007680.jpg
END:VEVENT
BEGIN:VEVENT
DTSTART;TZID=UTC:20250125T090000
DTEND;TZID=UTC:20250125T120000
DTSTAMP:20260419T180046
CREATED:20250113T213636Z
LAST-MODIFIED:20250113T213636Z
UID:24080-1737795600-1737806400@gumptownmag.com
SUMMARY:District 3 Town Hall Meeting
DESCRIPTION:
URL:https://gumptownmag.com/event/district-3-town-hall-meeting-2/
LOCATION:Resurrection Caholic Church\, 2815 Forbes Drive\, Montgomery\, AL\, 36110\, United States
ATTACH;FMTTYPE=image/jpeg:https://gumptownmag.com/wp-content/uploads/2025/01/473008328_1130680522396041_5305707205274588758_n.jpg
END:VEVENT
BEGIN:VEVENT
DTSTART;TZID=UTC:20250117T100000
DTEND;TZID=UTC:20250117T210000
DTSTAMP:20260419T180046
CREATED:20250113T212135Z
LAST-MODIFIED:20250113T212135Z
UID:24077-1737108000-1737147600@gumptownmag.com
SUMMARY:MLK Community Celebration
DESCRIPTION:For tickets call 334-301-5732.
URL:https://gumptownmag.com/event/mlk-community-celebration/
LOCATION:Davis Theatre\, 251 Montgomery Street\, Montgomery\, AL\, 36106\, United States
ATTACH;FMTTYPE=image/png:https://gumptownmag.com/wp-content/uploads/2025/01/MLK-Final2-1-1.png
END:VEVENT
BEGIN:VEVENT
DTSTART;TZID=UTC:20250113T080000
DTEND;TZID=UTC:20250113T170000
DTSTAMP:20260419T180046
CREATED:20250113T215406Z
LAST-MODIFIED:20250113T215406Z
UID:24083-1736755200-1736787600@gumptownmag.com
SUMMARY:Alabama State University Founders Day Program
DESCRIPTION:Alabama State University’s 125th Founders’ Day Convocation will be held in-person on February 7 at 10 a.m. in the ASU Dunn-Oliver Acadome. The event is free and open to the public. \nASU’S RICH LEGACY \nASU is the global entity of higher education that it is today due in part to the fortitude of a group of formerly enslaved men\, known as the Marion Nine\, who founded what is now Alabama State University on July 18\, 1867 in Marion\, Alabama. \nOn Feb. 7\, ASU’s Founders’ Day will commemorate the co-founders and original trustees of this great institution\, which includes:  \nJoey P. Pinch\,  \nThomas Speed\,  \nNicholas Dale\,  \nJames Childs\,  \nThomas Lee\,  \nJohn Freeman\,  \nNathan Levert\,  \nDavid Harris and  \nAlexander H. Curtis. \nFirst incorporated as the Lincoln Normal School\, ASU became America’s first state-sponsored liberal arts institution for the higher education of Black citizens\, beginning ASU’s rich history first as a teacher’s college. William Burns Paterson\, ASU’s longest-serving president\, was appointed to the position in 1878 and held the office for 37 of its first 48 years.  \nFounders’ Day is traditionally held on or near Paterson’s birthday in honor of his being recognized as the “architect” of the modern Alabama State University and because he was instrumental in its move from Marion to Montgomery in 1887\, explained Cromwell Handy\, director of ASU’s Office of Alumni Relations.  \n“The legacy set forth by the Marion Nine\, William Burns Paterson and other key founders and developers of the University endures even now\,” Handy stated. “Today\, ASU is a comprehensive institution of higher education with high-demand graduate and undergraduate programs in multiple academic disciplines and is proud to be the University ‘Where History is Made\,’ ” he added.
URL:https://gumptownmag.com/event/alabama-state-university-founders-day-program/
LOCATION:AL
ATTACH;FMTTYPE=image/png:https://gumptownmag.com/wp-content/uploads/2025/01/image.png
END:VEVENT
BEGIN:VEVENT
DTSTART;TZID=UTC:20250104T090000
DTEND;TZID=UTC:20250104T120000
DTSTAMP:20260419T180047
CREATED:20241219T181717Z
LAST-MODIFIED:20241219T181717Z
UID:24055-1735981200-1735992000@gumptownmag.com
SUMMARY:Silver Queen Grand Chapter Annual Prayer Breakfast
DESCRIPTION:
URL:https://gumptownmag.com/event/silver-queen-grand-chapter-annual-prayer-breakfast/
LOCATION:Shiloh AME Zion Church\, 4970 County Road 24\, Auburn\, AL\, 36830\, United States
ATTACH;FMTTYPE=image/jpeg:https://gumptownmag.com/wp-content/uploads/2024/12/1000007660.jpg
END:VEVENT
BEGIN:VEVENT
DTSTART;TZID=UTC:20241231T220000
DTEND;TZID=UTC:20250101T000000
DTSTAMP:20260419T180047
CREATED:20241219T182459Z
LAST-MODIFIED:20241219T182459Z
UID:24060-1735682400-1735689600@gumptownmag.com
SUMMARY:2025 Downtown Countdown
DESCRIPTION:
URL:https://gumptownmag.com/event/2025-downtown-countdown/
LOCATION:Riverfront Park\, Montgomery\, AL\, United States
ATTACH;FMTTYPE=image/jpeg:https://gumptownmag.com/wp-content/uploads/2024/12/1000007681.jpg
END:VEVENT
BEGIN:VEVENT
DTSTART;TZID=UTC:20241130T100000
DTEND;TZID=UTC:20241201T173000
DTSTAMP:20260419T180047
CREATED:20241028T205640Z
LAST-MODIFIED:20241028T205640Z
UID:23969-1732960800-1733074200@gumptownmag.com
SUMMARY:7th Annual Rosa Parks Day
DESCRIPTION:Saint Paul AME Church is leading the charge in celebrating the 7th Annual Rosa Parks Day in Alabama. In 2018\, the Alabama Legislature voted to designate Rosa Parks Day\, December 1\, the day she was arrested in 1955 for refusing to give up her seat on a segregated bus to a white passenger. Her action ignited the year-long Montgomery bus boycott and helped usher in the civil rights movement. Therefore\, our seventh annual celebration will be held on Sunday\, December 1\, 2024.
URL:https://gumptownmag.com/event/7th-annual-rosa-parks-day/
LOCATION:St. Paul AME\, 706 East Patton\, Montgomery\, AL\, 36111\, United States
ATTACH;FMTTYPE=image/jpeg:https://gumptownmag.com/wp-content/uploads/2024/10/rosa-praks-day.jpg
END:VEVENT
END:VCALENDAR