BEGIN:VCALENDAR
VERSION:2.0
PRODID:-//Gumptown Magazine - ECPv6.15.20//NONSGML v1.0//EN
CALSCALE:GREGORIAN
METHOD:PUBLISH
X-WR-CALNAME:Gumptown Magazine
X-ORIGINAL-URL:https://gumptownmag.com
X-WR-CALDESC:Events for Gumptown Magazine
REFRESH-INTERVAL;VALUE=DURATION:PT1H
X-Robots-Tag:noindex
X-PUBLISHED-TTL:PT1H
BEGIN:VTIMEZONE
TZID:UTC
BEGIN:STANDARD
TZOFFSETFROM:+0000
TZOFFSETTO:+0000
TZNAME:UTC
DTSTART:20220101T000000
END:STANDARD
END:VTIMEZONE
BEGIN:VEVENT
DTSTART;TZID=UTC:20240128T093000
DTEND;TZID=UTC:20240128T120000
DTSTAMP:20260420T095411
CREATED:20240109T202741Z
LAST-MODIFIED:20240109T202828Z
UID:23367-1706434200-1706443200@gumptownmag.com
SUMMARY:13th Annual College Sunday
DESCRIPTION:
URL:https://gumptownmag.com/event/college-sunday/
LOCATION:Pilgrim Rest\, 1550 East Washington\, Montgomery\, AL\, 36107\, United States
ATTACH;FMTTYPE=image/jpeg:https://gumptownmag.com/wp-content/uploads/2024/01/college-sunday.jpg
END:VEVENT
BEGIN:VEVENT
DTSTART;TZID=UTC:20240115T120000
DTEND;TZID=UTC:20240115T160000
DTSTAMP:20260420T095411
CREATED:20231228T183342Z
LAST-MODIFIED:20231228T183342Z
UID:23337-1705320000-1705334400@gumptownmag.com
SUMMARY:MLK Birthday Bash
DESCRIPTION:
URL:https://gumptownmag.com/event/mlk-birthday-bash/
LOCATION:Tours of Montgomery\, 353 S. Jackson Street\, Montgomery\, AL\, 36104\, United States
ATTACH;FMTTYPE=image/jpeg:https://gumptownmag.com/wp-content/uploads/2023/12/412845397_10232834637787311_295961012202388331_n.jpg
END:VEVENT
BEGIN:VEVENT
DTSTART;TZID=UTC:20240115T100000
DTEND;TZID=UTC:20240115T120000
DTSTAMP:20260420T095411
CREATED:20240109T203241Z
LAST-MODIFIED:20240109T203241Z
UID:23372-1705312800-1705320000@gumptownmag.com
SUMMARY:MLK Parade
DESCRIPTION:
URL:https://gumptownmag.com/event/mlk-parade/
LOCATION:Downtown Montgomery\, Montgomert\, AL\, 36101\, United States
ATTACH;FMTTYPE=image/jpeg:https://gumptownmag.com/wp-content/uploads/2024/01/mlk.jpg
END:VEVENT
BEGIN:VEVENT
DTSTART;TZID=UTC:20240106T090000
DTEND;TZID=UTC:20240106T100000
DTSTAMP:20260420T095411
CREATED:20231228T184646Z
LAST-MODIFIED:20231228T184646Z
UID:23341-1704531600-1704535200@gumptownmag.com
SUMMARY:Prayer Walk
DESCRIPTION:
URL:https://gumptownmag.com/event/prayer-walk/
LOCATION:Vaughn Road Park\, 3620 Vaughn Road\, Montgomery\, AL\, United States
ATTACH;FMTTYPE=image/jpeg:https://gumptownmag.com/wp-content/uploads/2023/12/unnamed-84.jpg
END:VEVENT
BEGIN:VEVENT
DTSTART;TZID=UTC:20231216T130000
DTEND;TZID=UTC:20231216T160000
DTSTAMP:20260420T095411
CREATED:20231201T162721Z
LAST-MODIFIED:20231201T162721Z
UID:23294-1702731600-1702742400@gumptownmag.com
SUMMARY:Tuskegee Christmas Parade
DESCRIPTION:Downtown on the square
URL:https://gumptownmag.com/event/tuskegee-christmas-parade/
LOCATION:Tuskegee Town Square\, Tuskegee\, AL\, 36083\, United States
ATTACH;FMTTYPE=image/jpeg:https://gumptownmag.com/wp-content/uploads/2023/12/FB_IMG_1701033643556-1.jpg
END:VEVENT
BEGIN:VEVENT
DTSTART;TZID=UTC:20231214T100000
DTEND;TZID=UTC:20231214T150000
DTSTAMP:20260420T095411
CREATED:20231201T161103Z
LAST-MODIFIED:20231201T161103Z
UID:23287-1702548000-1702566000@gumptownmag.com
SUMMARY:Job Fair
DESCRIPTION:Free and open to the public. 
URL:https://gumptownmag.com/event/job-fair/
LOCATION:Multiplex\, 220 Hall Street\, Montgomery
ATTACH;FMTTYPE=image/jpeg:https://gumptownmag.com/wp-content/uploads/2023/12/IMG_20231129_122456_060-1.jpg
END:VEVENT
BEGIN:VEVENT
DTSTART;TZID=UTC:20231209T100000
DTEND;TZID=UTC:20231209T130000
DTSTAMP:20260420T095411
CREATED:20231201T161745Z
LAST-MODIFIED:20231201T161745Z
UID:23290-1702116000-1702126800@gumptownmag.com
SUMMARY:Community Health and Wellness Fest
DESCRIPTION:Free and open to the public. 
URL:https://gumptownmag.com/event/community-health-and-wellness-fest/
LOCATION:Sheridan Hts Community Center\, 3501 Faro Drive\, Montgomery\, AL\, 36110\, United States
ATTACH;FMTTYPE=image/jpeg:https://gumptownmag.com/wp-content/uploads/2023/12/FB_IMG_1701114977768.jpg
END:VEVENT
BEGIN:VEVENT
DTSTART;TZID=UTC:20231202T180000
DTEND;TZID=UTC:20231202T210000
DTSTAMP:20260420T095411
CREATED:20231114T230845Z
LAST-MODIFIED:20231114T230845Z
UID:23262-1701540000-1701550800@gumptownmag.com
SUMMARY:Pink Snowflake Gala
DESCRIPTION:Save the date! The Pink Snowflake Gala is December 2nd at A.L.O.E.\n\n\nFor tickets visit https://square.link/u/7FZ9q2JO
URL:https://gumptownmag.com/event/pink-snowflake-gala/
LOCATION:ALOE Event Center\, 2596 Eastern Blvd\, Montgomery\, AL\, United States
ATTACH;FMTTYPE=image/jpeg:https://gumptownmag.com/wp-content/uploads/2023/11/399777942_821450233319073_6801399090237797587_n.jpg
END:VEVENT
BEGIN:VEVENT
DTSTART;TZID=UTC:20231201T180000
DTEND;TZID=UTC:20231201T210000
DTSTAMP:20260420T095411
CREATED:20230815T181941Z
LAST-MODIFIED:20230815T181941Z
UID:23028-1701453600-1701464400@gumptownmag.com
SUMMARY:Canvas Gala Fundraiser
DESCRIPTION:Your contribution supports the work and mission of the Kings’ Canvas.
URL:https://gumptownmag.com/event/canvas-gala-fundraiser/
LOCATION:ALOE Event Center\, 2596 Eastern Blvd\, Montgomery\, AL\, United States
ATTACH;FMTTYPE=image/jpeg:https://gumptownmag.com/wp-content/uploads/2023/08/unnamed-68-scaled.jpg
END:VEVENT
BEGIN:VEVENT
DTSTART;TZID=UTC:20231129T130000
DTEND;TZID=UTC:20231203T200000
DTSTAMP:20260420T095411
CREATED:20230925T170003Z
LAST-MODIFIED:20230925T170003Z
UID:23122-1701262800-1701633600@gumptownmag.com
SUMMARY:Montgomery's 18th Annual Interfaith Nativity Exhibit
DESCRIPTION:New Location! Historic Grace Episcopal Church of Pike Road is hosting Montgomery’s 18th Annual Interfaith Nativity Exhibit. This annual Christmas celebration includes hundreds of nativities from different cultures and daily concerts. FREE admission. We will be open to the public daily from 1 pm to 8 pm on Wednesday\, November 29 through Sunday\, December 3\, at 906 Pike Road in Pike Road\, Alabama. Join us for a peaceful start to your Christmas season!
URL:https://gumptownmag.com/event/montgomerys-18th-annual-interfaith-nativity-exhibit/
LOCATION:Grace Episcopla Church of Pike Road\, 908 Pike Road\, Pike Road\, AL\, United States
ATTACH;FMTTYPE=image/png:https://gumptownmag.com/wp-content/uploads/2023/09/2023-Nativity-FRONT-Pass-Along-Card-4x6.pdf-1.png
END:VEVENT
BEGIN:VEVENT
DTSTART;TZID=UTC:20231120T173000
DTEND;TZID=UTC:20231120T200000
DTSTAMP:20260420T095412
CREATED:20231114T230514Z
LAST-MODIFIED:20231114T230514Z
UID:23259-1700501400-1700510400@gumptownmag.com
SUMMARY:Network N Chill
DESCRIPTION:At Network ‘n’ Chill\, we bring together professionals\, business leaders\, and change-makers from all walks of life. Our mission is to create an environment where connections are forged\, ideas are shared\, and opportunities are born. When you attend\, expect to network with a diverse and vibrant community\, learn from industry experts\, and leave inspired to achieve your professional goals. Join us and be part of a movement that celebrates collaboration\, growth\, and positive change.
URL:https://gumptownmag.com/event/network-n-chill-2/
LOCATION:The Nest at ASU Stadium\, 1525 Harris Way\, Montgomery\, AL\, United States
ATTACH;FMTTYPE=image/jpeg:https://gumptownmag.com/wp-content/uploads/2023/11/398944316_820890300041733_6202419301244551308_n.jpg
END:VEVENT
BEGIN:VEVENT
DTSTART;TZID=UTC:20231119T100000
DTEND;TZID=UTC:20231119T130000
DTSTAMP:20260420T095412
CREATED:20231009T223739Z
LAST-MODIFIED:20231009T223739Z
UID:23154-1700388000-1700398800@gumptownmag.com
SUMMARY:Bethel 156th Church Anniversary
DESCRIPTION:
URL:https://gumptownmag.com/event/bethel-156th-church-anniversary/
LOCATION:Bethel Baptist Church\, 2106 Mill Street\, Montgomery\, AL\, 36108\, United States
ATTACH;FMTTYPE=image/jpeg:https://gumptownmag.com/wp-content/uploads/2023/10/IMG_4822.jpg
END:VEVENT
BEGIN:VEVENT
DTSTART;TZID=UTC:20231115T100000
DTEND;TZID=UTC:20231115T140000
DTSTAMP:20260420T095412
CREATED:20231018T182514Z
LAST-MODIFIED:20231018T182514Z
UID:23194-1700042400-1700056800@gumptownmag.com
SUMMARY:St. John’s Episcopal Church Annual Bazaar 2023
DESCRIPTION:The Episcopal Church Women (ECW) will have its annual Bazaar Wednesday\, November 15\, 2023\, from 10-2 p.m. in the Education Building. Sunday School classrooms will be turned into shops for handmade arts and crafts\, a pantry of homemade casseroles and breads\, cakes\, pies and cookies\, a silent auction\, and a treasure attic full of gently used household goods including kitchen ware\, china and silver\, holiday and decorative ware and much more. \n  \nThe Bazaar Luncheon will be from 11-1 for $12 a plate. To-go orders are available via drive-through in the rear parking lot at the tent by the kitchen door. No reservation is needed for to-go orders. Reservations for dining in the Parish Hall are encouraged and can be made by calling the church office at 334-262-1937. The Luncheon will be using some recipes from the ECW’s “St. John’s Disciples Blest Recipes\,” including Martha Allen’s chicken and rice casserole\, Betty Mathews’ marinated green beans\, vinaigrette spring salad mix with fruit\, rolls and blueberry crumble. \n  \nContinuing a tradition started last year\, there will be a Boston Butt Sale from 5-7 p.m. Pre-order is available by contacting the church office at 334-262-1937. There will be a limited amount available for pick-up. Most of the shops will be also open during the early evening hours.
URL:https://gumptownmag.com/event/st-johns-episcopal-church-annual-bazaar-2023/
LOCATION:St. John’s Episcopal Church\, 113 Madison Ave\, Montgomery\, AL\, 36104\, United States
ATTACH;FMTTYPE=image/jpeg:https://gumptownmag.com/wp-content/uploads/2023/10/Screenshot_20231018_130947_Samsung-Notes.jpg
END:VEVENT
BEGIN:VEVENT
DTSTART;TZID=UTC:20231112T140000
DTEND;TZID=UTC:20231112T170000
DTSTAMP:20260420T095412
CREATED:20231009T224153Z
LAST-MODIFIED:20231009T224153Z
UID:23157-1699797600-1699808400@gumptownmag.com
SUMMARY:Bethel Mass Choir Concert
DESCRIPTION:
URL:https://gumptownmag.com/event/bethel-mass-choir-concert/
LOCATION:Bethel Baptist Church\, 2106 Mill Street\, Montgomery\, AL\, 36108\, United States
ATTACH;FMTTYPE=image/jpeg:https://gumptownmag.com/wp-content/uploads/2023/10/IMG_4788.jpg
END:VEVENT
BEGIN:VEVENT
DTSTART;TZID=UTC:20231110T183000
DTEND;TZID=UTC:20231110T200000
DTSTAMP:20260420T095412
CREATED:20231020T201707Z
LAST-MODIFIED:20231020T201707Z
UID:23205-1699641000-1699646400@gumptownmag.com
SUMMARY:Young Professionals Gala
DESCRIPTION:
URL:https://gumptownmag.com/event/young-professionals-gala/
LOCATION:RSA Activity Center\, 201 Dexter\, Montgomery\, AL\, 36104\, United States
ATTACH;FMTTYPE=image/jpeg:https://gumptownmag.com/wp-content/uploads/2023/10/gala-mayor.jpg
END:VEVENT
BEGIN:VEVENT
DTSTART;TZID=UTC:20231105T160000
DTEND;TZID=UTC:20231105T190000
DTSTAMP:20260420T095412
CREATED:20231020T201234Z
LAST-MODIFIED:20231020T201234Z
UID:23202-1699200000-1699210800@gumptownmag.com
SUMMARY:Families of the Year Awards
DESCRIPTION:
URL:https://gumptownmag.com/event/families-of-the-year-awards/
LOCATION:Alabama Shakespeare Festival\, 1 Festival Drive\, Montgomery\, AL\, 36117\, United States
ATTACH;FMTTYPE=image/jpeg:https://gumptownmag.com/wp-content/uploads/2023/10/FB_IMG_1697817602489.jpg
END:VEVENT
BEGIN:VEVENT
DTSTART;TZID=UTC:20231105T130000
DTEND;TZID=UTC:20231105T160000
DTSTAMP:20260420T095412
CREATED:20230913T185637Z
LAST-MODIFIED:20230913T185637Z
UID:23082-1699189200-1699200000@gumptownmag.com
SUMMARY:Business Networking Event
DESCRIPTION:Free networking event! \n181 Eastern Blvd. Montgomery\, AL  \n  \n  \n 
URL:https://gumptownmag.com/event/business-networking-event/
LOCATION:AL
ATTACH;FMTTYPE=image/jpeg:https://gumptownmag.com/wp-content/uploads/2023/09/received_975243650197027-scaled.jpeg
END:VEVENT
BEGIN:VEVENT
DTSTART;TZID=UTC:20231031T170000
DTEND;TZID=UTC:20231031T220000
DTSTAMP:20260420T095412
CREATED:20231017T205451Z
LAST-MODIFIED:20231017T205451Z
UID:23182-1698771600-1698789600@gumptownmag.com
SUMMARY:Halloween Spooktacular
DESCRIPTION:
URL:https://gumptownmag.com/event/halloween-spooktacular/
LOCATION:Garrett Coliseum\, 1555 Federal Drive\, Montgomery\, AL\, 36107\, United States
ATTACH;FMTTYPE=image/jpeg:https://gumptownmag.com/wp-content/uploads/2023/10/spooktacular.jpg
END:VEVENT
BEGIN:VEVENT
DTSTART;TZID=UTC:20231030T170000
DTEND;TZID=UTC:20231030T220000
DTSTAMP:20260420T095412
CREATED:20231017T204658Z
LAST-MODIFIED:20231017T204658Z
UID:23176-1698685200-1698703200@gumptownmag.com
SUMMARY:The Nest After Dark
DESCRIPTION:Save the date for the spookiest day of the week! Get your costumes ready for a time to compete! The Nest After Dark ‘Coaches Show’ Halloween Edition 5-10 pm!! Visit if you dare October 30th for an unforgettable night of spine-tingling scares\, heart-pumping excitement\, and non-stop fun!
URL:https://gumptownmag.com/event/the-nest-after-dark/
LOCATION:The Nest at ASU Stadium\, 1525 Harris Way\, Montgomery\, AL\, United States
ATTACH;FMTTYPE=image/jpeg:https://gumptownmag.com/wp-content/uploads/2023/10/the-nest-halloween.jpg
END:VEVENT
BEGIN:VEVENT
DTSTART;TZID=UTC:20231019T080000
DTEND;TZID=UTC:20231019T140000
DTSTAMP:20260420T095412
CREATED:20230823T212747Z
LAST-MODIFIED:20230823T212747Z
UID:23041-1697702400-1697724000@gumptownmag.com
SUMMARY:Women Who Mean Business
DESCRIPTION:Conference and Pop Up Market! \nRegister today! \nMACC “Women Who Mean Business!” Conference & Pop-Up Market Millbrook Chamber » Calendar
URL:https://gumptownmag.com/event/women-who-mean-business/
LOCATION:Church at The Brook\, 2890 Highway 14\, Millbrook\, AL\, 360654\, United States
ATTACH;FMTTYPE=image/png:https://gumptownmag.com/wp-content/uploads/2023/08/unnamed-27.png
END:VEVENT
BEGIN:VEVENT
DTSTART;TZID=UTC:20231016T173000
DTEND;TZID=UTC:20231016T200000
DTSTAMP:20260420T095412
CREATED:20231009T224834Z
LAST-MODIFIED:20231009T224834Z
UID:23163-1697477400-1697486400@gumptownmag.com
SUMMARY:Network N Chill Episode 2
DESCRIPTION:
URL:https://gumptownmag.com/event/network-n-chill-episode-2/
LOCATION:The Nest at ASU Stadium\, 1525 Harris Way\, Montgomery\, AL\, United States
ATTACH;FMTTYPE=image/png:https://gumptownmag.com/wp-content/uploads/2023/10/Eventbrite-SEASON-2-800x400-1.png
END:VEVENT
BEGIN:VEVENT
DTSTART;TZID=UTC:20231013T180000
DTEND;TZID=UTC:20231013T210000
DTSTAMP:20260420T095412
CREATED:20231009T224504Z
LAST-MODIFIED:20231009T224504Z
UID:23160-1697220000-1697230800@gumptownmag.com
SUMMARY:13th Annual Riverwalk Wine Festival
DESCRIPTION:The City of Montgomery 13th Annual Riverwalk Wine Festival is a must-attend event for wine enthusiasts and anyone looking for a memorable experience while enjoying the vibrant atmosphere of our downtown Riverwalk. This event has become the premier wine event for Central and South Alabama wine novices and connoisseurs. This year’s event will feature the state’s top wine importers and distributors\, offering a great selection of wines for samples. \n  \nWHAT: The City of Montgomery 13th Annual Riverwalk Wine Festival \n  \nWHERE: Union Station Train Shed \n300 Water Street \nMontgomery\, AL 36104 \n  \nWHEN: October 13th from 6-9 p.m.  \n  \nTickets include a commemorative wine glass & bag\, wine tasting\, live entertainment\, and vendor purchase options. Must be 21 & over for ticket purchases. Designated drivers are free. Chairs and pets are welcome. \nFor more information and to purchase tickets\, visit: https://prod5.agileticketing.net/websales/pages/list.aspx?epguid=005b270f-f109-4643-a3f4-9630c6d74bca&mdy=10%2F13%2F2023&.   
URL:https://gumptownmag.com/event/13th-annual-riverwalk-wine-festival/
LOCATION:Union Station Train Shed\, 300 Water Street\, Montgomery\, AL\, United States
ATTACH;FMTTYPE=image/png:https://gumptownmag.com/wp-content/uploads/2023/10/FINAL-Riverwalk-Wine-Festival-Flyer-11x17-.png
END:VEVENT
BEGIN:VEVENT
DTSTART;TZID=UTC:20231012T170000
DTEND;TZID=UTC:20231012T190000
DTSTAMP:20260420T095412
CREATED:20230926T203732Z
LAST-MODIFIED:20230926T204500Z
UID:23129-1697130000-1697137200@gumptownmag.com
SUMMARY:Amal Walk Across America
DESCRIPTION:
URL:https://gumptownmag.com/event/amol-walk-across-america/
LOCATION:Downtown Montgomery\, Montgomert\, AL\, 36101\, United States
ATTACH;FMTTYPE=image/jpeg:https://gumptownmag.com/wp-content/uploads/2023/09/amal.jpg
END:VEVENT
BEGIN:VEVENT
DTSTART;TZID=UTC:20231007T110000
DTEND;TZID=UTC:20231007T170000
DTSTAMP:20260420T095412
CREATED:20230719T160457Z
LAST-MODIFIED:20230719T160457Z
UID:22842-1696676400-1696698000@gumptownmag.com
SUMMARY:2nd Annual Oktober Fest
DESCRIPTION:Saturday\, October 7\, 11 a.m. – 5 p.m.:  2nd Annual Oktoberfest Festival\, Messiah Lutheran Church\, 6670 Vaughn Road\, Montgomery 36116 – Free Admission\, Open to the Public – Outdoor Festival Under the Cedars – Music by the John Bull Trio (12 noon) and Tommy & Kay (3 p.m.) – German & American Food – Used Book Sale – Treasure Room – Beer Garden – Arts & Crafts – Community Marketplace – Raffles – Children’s Play Area – Vendor Spaces Available ($20) by contacting WesTallon@gmail.com
URL:https://gumptownmag.com/event/2nd-annual-oktober-fest/
LOCATION:Messiah Lutheran Church\, 6670 Vaughn Road\, Montgomery\, AL\, 36116\, United States
ATTACH;FMTTYPE=image/jpeg:https://gumptownmag.com/wp-content/uploads/2023/07/Publicity-Flyer-Color.jpg
END:VEVENT
BEGIN:VEVENT
DTSTART;TZID=UTC:20231006T190000
DTEND;TZID=UTC:20231006T220000
DTSTAMP:20260420T095412
CREATED:20230713T201820Z
LAST-MODIFIED:20230713T201820Z
UID:22796-1696618800-1696629600@gumptownmag.com
SUMMARY:ASU Homecoming Concert
DESCRIPTION:ASU Homecoming Concert Featuring Glorilla\, Young Nudy\, Boosie Badazz.
URL:https://gumptownmag.com/event/asu-homecoming-concert/
LOCATION:ASU Acadome
ATTACH;FMTTYPE=image/jpeg:https://gumptownmag.com/wp-content/uploads/2023/07/asu-homecoming-concert.jpg
END:VEVENT
BEGIN:VEVENT
DTSTART;TZID=UTC:20230929T190000
DTEND;TZID=UTC:20230929T210000
DTSTAMP:20260420T095412
CREATED:20230913T182147Z
LAST-MODIFIED:20230913T182147Z
UID:23072-1696014000-1696021200@gumptownmag.com
SUMMARY:Voices of Praise Gospel Choir Concert
DESCRIPTION:The Voice of Praise Gospel Choir was a major part of student life between 1986 and 2004. Alumni members of the choir will be coming together at the end of the month for a reunion in Montgomery. The reunion will culminate with a concert on Friday\, September 29 at 7:00 PM. The concert will be held at Hutchinson Missionary Baptist Church. Will you kindly share this flyer with members of your alumni chapter. Please contact freda_givens@yahoo.com you have any questions.
URL:https://gumptownmag.com/event/voices-of-praise-gospel-choir-concert/
LOCATION:Hutchinson Baptist Church\, 860 Grove Street\, Montgomery\, AL\, 36104\, United States
ATTACH;FMTTYPE=image/jpeg:https://gumptownmag.com/wp-content/uploads/2023/09/VOP-Concert-Flyer-2.jpg
END:VEVENT
BEGIN:VEVENT
DTSTART;TZID=UTC:20230929T173000
DTEND;TZID=UTC:20230929T200000
DTSTAMP:20260420T095412
CREATED:20230913T184135Z
LAST-MODIFIED:20230913T184135Z
UID:23078-1696008600-1696017600@gumptownmag.com
SUMMARY:Food Truck Festival
DESCRIPTION:Millbrook Baptist Daycare is hosting a Food Truck Festival is September 29th. 
URL:https://gumptownmag.com/event/food-truck-festival/
LOCATION:Millbrook Baptist Daycare\, 3431 Browns Road\, Millbrook\, AL\, 36054\, United States
ATTACH;FMTTYPE=image/jpeg:https://gumptownmag.com/wp-content/uploads/2023/09/FB_IMG_1694544824972.jpg
END:VEVENT
BEGIN:VEVENT
DTSTART;TZID=UTC:20230923T090000
DTEND;TZID=UTC:20230923T120000
DTSTAMP:20260420T095412
CREATED:20230830T210943Z
LAST-MODIFIED:20230830T210943Z
UID:23053-1695459600-1695470400@gumptownmag.com
SUMMARY:Community Baby Shower
DESCRIPTION:For more information call 334-467-1678. \n 
URL:https://gumptownmag.com/event/community-baby-shower/
LOCATION:Freewill Baptist Church\, 1724 Hill Street\, Montgomery\, AL\, 36108\, United States
ATTACH;FMTTYPE=image/jpeg:https://gumptownmag.com/wp-content/uploads/2023/08/FB_IMG_1693340577532.jpg
END:VEVENT
BEGIN:VEVENT
DTSTART;TZID=UTC:20230922T150000
DTEND;TZID=UTC:20230922T170000
DTSTAMP:20260420T095412
CREATED:20230913T183616Z
LAST-MODIFIED:20230913T183616Z
UID:23075-1695394800-1695402000@gumptownmag.com
SUMMARY:Golf 101
DESCRIPTION:Join the Mayor’s Young Professional Council-Montgomery\, Al for an exciting #FREE Golf 101 clinic  for Young Professionals on September 2\, 2023 at 3 p.m. Whether you’re a beginner or want to improve your skills\, this event is perfect for you and a excellent opportunity to network with fellow young professionals while enjoying the sport of golf.\n\n\nAttendees will receive expert guidance from experienced golf instructors who will teach fundamentals of golf\, including proper swing techniques\, putting\, and etiquette. You’ll also have the opportunity to practice your skills on the course and receive personalized tips to improve your game. \n\n\nRegister now to secure your spot! We can’t wait to see you there! https://www.eventbrite.com/…/golf-101-for-young… \n 
URL:https://gumptownmag.com/event/golf-101/
LOCATION:gateway park lodge\, 3800 Davenport Parkway\, montgomery\, AL\, United States
ATTACH;FMTTYPE=image/jpeg:https://gumptownmag.com/wp-content/uploads/2023/09/FB_IMG_1694551478560.jpg
END:VEVENT
BEGIN:VEVENT
DTSTART;TZID=UTC:20230921T160000
DTEND;TZID=UTC:20230921T200000
DTSTAMP:20260420T095412
CREATED:20230801T154733Z
LAST-MODIFIED:20230801T154733Z
UID:22953-1695312000-1695326400@gumptownmag.com
SUMMARY:Second Chance Foundation Fall Festival
DESCRIPTION:Are you ready for some FALL FESTIVAL FUN? Join us for our Inaugural Fall Festival on September 21\, 2023 from 4pm – 8pm.\n\n\nLooking forward to games\, great entertainment\, food\, retail vendors and much more!\n\n\nGrab your ticket here: https://2ndchance.org/events/ \n\n \n\n\n\n\nWould you like to be a vendor? Click the link to learn more: https://2ndchance.org/vendor-contract-form/ \n\n \n\n\n\n\n*All proceeds will go to Second Chance Foundation*
URL:https://gumptownmag.com/event/second-chance-foundation-fall-festival/
LOCATION:Union Station Train Shed\, 300 Water Street\, Montgomery\, AL\, United States
ATTACH;FMTTYPE=image/jpeg:https://gumptownmag.com/wp-content/uploads/2023/08/358663227_688386560001340_7934339626791595125_n.jpg
END:VEVENT
END:VCALENDAR