BEGIN:VCALENDAR
VERSION:2.0
PRODID:-//Gumptown Magazine - ECPv6.15.20//NONSGML v1.0//EN
CALSCALE:GREGORIAN
METHOD:PUBLISH
X-WR-CALNAME:Gumptown Magazine
X-ORIGINAL-URL:https://gumptownmag.com
X-WR-CALDESC:Events for Gumptown Magazine
REFRESH-INTERVAL;VALUE=DURATION:PT1H
X-Robots-Tag:noindex
X-PUBLISHED-TTL:PT1H
BEGIN:VTIMEZONE
TZID:UTC
BEGIN:STANDARD
TZOFFSETFROM:+0000
TZOFFSETTO:+0000
TZNAME:UTC
DTSTART:20220101T000000
END:STANDARD
END:VTIMEZONE
BEGIN:VEVENT
DTSTART;TZID=UTC:20231031T170000
DTEND;TZID=UTC:20231031T220000
DTSTAMP:20260422T090301
CREATED:20231017T205451Z
LAST-MODIFIED:20231017T205451Z
UID:23182-1698771600-1698789600@gumptownmag.com
SUMMARY:Halloween Spooktacular
DESCRIPTION:
URL:https://gumptownmag.com/event/halloween-spooktacular/
LOCATION:Garrett Coliseum\, 1555 Federal Drive\, Montgomery\, AL\, 36107\, United States
ATTACH;FMTTYPE=image/jpeg:https://gumptownmag.com/wp-content/uploads/2023/10/spooktacular.jpg
END:VEVENT
BEGIN:VEVENT
DTSTART;TZID=UTC:20231030T170000
DTEND;TZID=UTC:20231030T220000
DTSTAMP:20260422T090301
CREATED:20231017T204658Z
LAST-MODIFIED:20231017T204658Z
UID:23176-1698685200-1698703200@gumptownmag.com
SUMMARY:The Nest After Dark
DESCRIPTION:Save the date for the spookiest day of the week! Get your costumes ready for a time to compete! The Nest After Dark ‘Coaches Show’ Halloween Edition 5-10 pm!! Visit if you dare October 30th for an unforgettable night of spine-tingling scares\, heart-pumping excitement\, and non-stop fun!
URL:https://gumptownmag.com/event/the-nest-after-dark/
LOCATION:The Nest at ASU Stadium\, 1525 Harris Way\, Montgomery\, AL\, United States
ATTACH;FMTTYPE=image/jpeg:https://gumptownmag.com/wp-content/uploads/2023/10/the-nest-halloween.jpg
END:VEVENT
BEGIN:VEVENT
DTSTART;TZID=UTC:20231019T080000
DTEND;TZID=UTC:20231019T140000
DTSTAMP:20260422T090301
CREATED:20230823T212747Z
LAST-MODIFIED:20230823T212747Z
UID:23041-1697702400-1697724000@gumptownmag.com
SUMMARY:Women Who Mean Business
DESCRIPTION:Conference and Pop Up Market! \nRegister today! \nMACC “Women Who Mean Business!” Conference & Pop-Up Market Millbrook Chamber » Calendar
URL:https://gumptownmag.com/event/women-who-mean-business/
LOCATION:Church at The Brook\, 2890 Highway 14\, Millbrook\, AL\, 360654\, United States
ATTACH;FMTTYPE=image/png:https://gumptownmag.com/wp-content/uploads/2023/08/unnamed-27.png
END:VEVENT
BEGIN:VEVENT
DTSTART;TZID=UTC:20231016T173000
DTEND;TZID=UTC:20231016T200000
DTSTAMP:20260422T090301
CREATED:20231009T224834Z
LAST-MODIFIED:20231009T224834Z
UID:23163-1697477400-1697486400@gumptownmag.com
SUMMARY:Network N Chill Episode 2
DESCRIPTION:
URL:https://gumptownmag.com/event/network-n-chill-episode-2/
LOCATION:The Nest at ASU Stadium\, 1525 Harris Way\, Montgomery\, AL\, United States
ATTACH;FMTTYPE=image/png:https://gumptownmag.com/wp-content/uploads/2023/10/Eventbrite-SEASON-2-800x400-1.png
END:VEVENT
BEGIN:VEVENT
DTSTART;TZID=UTC:20231013T180000
DTEND;TZID=UTC:20231013T210000
DTSTAMP:20260422T090301
CREATED:20231009T224504Z
LAST-MODIFIED:20231009T224504Z
UID:23160-1697220000-1697230800@gumptownmag.com
SUMMARY:13th Annual Riverwalk Wine Festival
DESCRIPTION:The City of Montgomery 13th Annual Riverwalk Wine Festival is a must-attend event for wine enthusiasts and anyone looking for a memorable experience while enjoying the vibrant atmosphere of our downtown Riverwalk. This event has become the premier wine event for Central and South Alabama wine novices and connoisseurs. This year’s event will feature the state’s top wine importers and distributors\, offering a great selection of wines for samples. \n  \nWHAT: The City of Montgomery 13th Annual Riverwalk Wine Festival \n  \nWHERE: Union Station Train Shed \n300 Water Street \nMontgomery\, AL 36104 \n  \nWHEN: October 13th from 6-9 p.m.  \n  \nTickets include a commemorative wine glass & bag\, wine tasting\, live entertainment\, and vendor purchase options. Must be 21 & over for ticket purchases. Designated drivers are free. Chairs and pets are welcome. \nFor more information and to purchase tickets\, visit: https://prod5.agileticketing.net/websales/pages/list.aspx?epguid=005b270f-f109-4643-a3f4-9630c6d74bca&mdy=10%2F13%2F2023&.   
URL:https://gumptownmag.com/event/13th-annual-riverwalk-wine-festival/
LOCATION:Union Station Train Shed\, 300 Water Street\, Montgomery\, AL\, United States
ATTACH;FMTTYPE=image/png:https://gumptownmag.com/wp-content/uploads/2023/10/FINAL-Riverwalk-Wine-Festival-Flyer-11x17-.png
END:VEVENT
BEGIN:VEVENT
DTSTART;TZID=UTC:20231012T170000
DTEND;TZID=UTC:20231012T190000
DTSTAMP:20260422T090302
CREATED:20230926T203732Z
LAST-MODIFIED:20230926T204500Z
UID:23129-1697130000-1697137200@gumptownmag.com
SUMMARY:Amal Walk Across America
DESCRIPTION:
URL:https://gumptownmag.com/event/amol-walk-across-america/
LOCATION:Downtown Montgomery\, Montgomert\, AL\, 36101\, United States
ATTACH;FMTTYPE=image/jpeg:https://gumptownmag.com/wp-content/uploads/2023/09/amal.jpg
END:VEVENT
BEGIN:VEVENT
DTSTART;TZID=UTC:20231007T110000
DTEND;TZID=UTC:20231007T170000
DTSTAMP:20260422T090302
CREATED:20230719T160457Z
LAST-MODIFIED:20230719T160457Z
UID:22842-1696676400-1696698000@gumptownmag.com
SUMMARY:2nd Annual Oktober Fest
DESCRIPTION:Saturday\, October 7\, 11 a.m. – 5 p.m.:  2nd Annual Oktoberfest Festival\, Messiah Lutheran Church\, 6670 Vaughn Road\, Montgomery 36116 – Free Admission\, Open to the Public – Outdoor Festival Under the Cedars – Music by the John Bull Trio (12 noon) and Tommy & Kay (3 p.m.) – German & American Food – Used Book Sale – Treasure Room – Beer Garden – Arts & Crafts – Community Marketplace – Raffles – Children’s Play Area – Vendor Spaces Available ($20) by contacting WesTallon@gmail.com
URL:https://gumptownmag.com/event/2nd-annual-oktober-fest/
LOCATION:Messiah Lutheran Church\, 6670 Vaughn Road\, Montgomery\, AL\, 36116\, United States
ATTACH;FMTTYPE=image/jpeg:https://gumptownmag.com/wp-content/uploads/2023/07/Publicity-Flyer-Color.jpg
END:VEVENT
BEGIN:VEVENT
DTSTART;TZID=UTC:20231006T190000
DTEND;TZID=UTC:20231006T220000
DTSTAMP:20260422T090302
CREATED:20230713T201820Z
LAST-MODIFIED:20230713T201820Z
UID:22796-1696618800-1696629600@gumptownmag.com
SUMMARY:ASU Homecoming Concert
DESCRIPTION:ASU Homecoming Concert Featuring Glorilla\, Young Nudy\, Boosie Badazz.
URL:https://gumptownmag.com/event/asu-homecoming-concert/
LOCATION:ASU Acadome
ATTACH;FMTTYPE=image/jpeg:https://gumptownmag.com/wp-content/uploads/2023/07/asu-homecoming-concert.jpg
END:VEVENT
BEGIN:VEVENT
DTSTART;TZID=UTC:20230929T190000
DTEND;TZID=UTC:20230929T210000
DTSTAMP:20260422T090302
CREATED:20230913T182147Z
LAST-MODIFIED:20230913T182147Z
UID:23072-1696014000-1696021200@gumptownmag.com
SUMMARY:Voices of Praise Gospel Choir Concert
DESCRIPTION:The Voice of Praise Gospel Choir was a major part of student life between 1986 and 2004. Alumni members of the choir will be coming together at the end of the month for a reunion in Montgomery. The reunion will culminate with a concert on Friday\, September 29 at 7:00 PM. The concert will be held at Hutchinson Missionary Baptist Church. Will you kindly share this flyer with members of your alumni chapter. Please contact freda_givens@yahoo.com you have any questions.
URL:https://gumptownmag.com/event/voices-of-praise-gospel-choir-concert/
LOCATION:Hutchinson Baptist Church\, 860 Grove Street\, Montgomery\, AL\, 36104\, United States
ATTACH;FMTTYPE=image/jpeg:https://gumptownmag.com/wp-content/uploads/2023/09/VOP-Concert-Flyer-2.jpg
END:VEVENT
BEGIN:VEVENT
DTSTART;TZID=UTC:20230929T173000
DTEND;TZID=UTC:20230929T200000
DTSTAMP:20260422T090302
CREATED:20230913T184135Z
LAST-MODIFIED:20230913T184135Z
UID:23078-1696008600-1696017600@gumptownmag.com
SUMMARY:Food Truck Festival
DESCRIPTION:Millbrook Baptist Daycare is hosting a Food Truck Festival is September 29th. 
URL:https://gumptownmag.com/event/food-truck-festival/
LOCATION:Millbrook Baptist Daycare\, 3431 Browns Road\, Millbrook\, AL\, 36054\, United States
ATTACH;FMTTYPE=image/jpeg:https://gumptownmag.com/wp-content/uploads/2023/09/FB_IMG_1694544824972.jpg
END:VEVENT
BEGIN:VEVENT
DTSTART;TZID=UTC:20230923T090000
DTEND;TZID=UTC:20230923T120000
DTSTAMP:20260422T090302
CREATED:20230830T210943Z
LAST-MODIFIED:20230830T210943Z
UID:23053-1695459600-1695470400@gumptownmag.com
SUMMARY:Community Baby Shower
DESCRIPTION:For more information call 334-467-1678. \n 
URL:https://gumptownmag.com/event/community-baby-shower/
LOCATION:Freewill Baptist Church\, 1724 Hill Street\, Montgomery\, AL\, 36108\, United States
ATTACH;FMTTYPE=image/jpeg:https://gumptownmag.com/wp-content/uploads/2023/08/FB_IMG_1693340577532.jpg
END:VEVENT
BEGIN:VEVENT
DTSTART;TZID=UTC:20230922T150000
DTEND;TZID=UTC:20230922T170000
DTSTAMP:20260422T090302
CREATED:20230913T183616Z
LAST-MODIFIED:20230913T183616Z
UID:23075-1695394800-1695402000@gumptownmag.com
SUMMARY:Golf 101
DESCRIPTION:Join the Mayor’s Young Professional Council-Montgomery\, Al for an exciting #FREE Golf 101 clinic  for Young Professionals on September 2\, 2023 at 3 p.m. Whether you’re a beginner or want to improve your skills\, this event is perfect for you and a excellent opportunity to network with fellow young professionals while enjoying the sport of golf.\n\n\nAttendees will receive expert guidance from experienced golf instructors who will teach fundamentals of golf\, including proper swing techniques\, putting\, and etiquette. You’ll also have the opportunity to practice your skills on the course and receive personalized tips to improve your game. \n\n\nRegister now to secure your spot! We can’t wait to see you there! https://www.eventbrite.com/…/golf-101-for-young… \n 
URL:https://gumptownmag.com/event/golf-101/
LOCATION:gateway park lodge\, 3800 Davenport Parkway\, montgomery\, AL\, United States
ATTACH;FMTTYPE=image/jpeg:https://gumptownmag.com/wp-content/uploads/2023/09/FB_IMG_1694551478560.jpg
END:VEVENT
BEGIN:VEVENT
DTSTART;TZID=UTC:20230921T160000
DTEND;TZID=UTC:20230921T200000
DTSTAMP:20260422T090302
CREATED:20230801T154733Z
LAST-MODIFIED:20230801T154733Z
UID:22953-1695312000-1695326400@gumptownmag.com
SUMMARY:Second Chance Foundation Fall Festival
DESCRIPTION:Are you ready for some FALL FESTIVAL FUN? Join us for our Inaugural Fall Festival on September 21\, 2023 from 4pm – 8pm.\n\n\nLooking forward to games\, great entertainment\, food\, retail vendors and much more!\n\n\nGrab your ticket here: https://2ndchance.org/events/ \n\n \n\n\n\n\nWould you like to be a vendor? Click the link to learn more: https://2ndchance.org/vendor-contract-form/ \n\n \n\n\n\n\n*All proceeds will go to Second Chance Foundation*
URL:https://gumptownmag.com/event/second-chance-foundation-fall-festival/
LOCATION:Union Station Train Shed\, 300 Water Street\, Montgomery\, AL\, United States
ATTACH;FMTTYPE=image/jpeg:https://gumptownmag.com/wp-content/uploads/2023/08/358663227_688386560001340_7934339626791595125_n.jpg
END:VEVENT
BEGIN:VEVENT
DTSTART;TZID=UTC:20230921T090000
DTEND;TZID=UTC:20230921T140000
DTSTAMP:20260422T090302
CREATED:20230823T211417Z
LAST-MODIFIED:20230823T211417Z
UID:23037-1695286800-1695304800@gumptownmag.com
SUMMARY:Millbrook Golf Scramble
DESCRIPTION:Register today! \n2023 MACC Golf Tournament – 4 Person Scramble Millbrook Chamber » Calendar
URL:https://gumptownmag.com/event/millbrook-golf-scramble/
LOCATION:The Pines Golf Course\, 307 Deatsville Hwy\, Millbrook\, AL\, 36054\, United States
ATTACH;FMTTYPE=image/jpeg:https://gumptownmag.com/wp-content/uploads/2023/08/Thumbnail.jpg
END:VEVENT
BEGIN:VEVENT
DTSTART;TZID=UTC:20230918T150000
DTEND;TZID=UTC:20230918T190000
DTSTAMP:20260422T090302
CREATED:20230830T203906Z
LAST-MODIFIED:20230830T203906Z
UID:23050-1695049200-1695063600@gumptownmag.com
SUMMARY:39th Annual Dare to Dream College and Career Fair
DESCRIPTION:We’re less than a month away from the River Region’s biggest college and career fair!\n\n\nThanks to the generosity of the Montgomery Public School System\, Wal-Mart\, and Publix\, TWO $1\,000 scholarships will be awarded to one MPS student attendee and one surrounding county student attendee!\n\n\nPlan your attendance to the 39th Annual Dare to Dream College & Career Fair\, presented by the Junior League of Montgomery!\n\n\nRegister to enter the scholarship drawing – https://docs.google.com/…/1FAIpQLScxMB9utWkPEL…/viewform
URL:https://gumptownmag.com/event/39th-annual-dare-to-dream-college-and-career-fair/
LOCATION:Multiplex\, 220 Hall Street\, Montgomery
ATTACH;FMTTYPE=image/jpeg:https://gumptownmag.com/wp-content/uploads/2023/08/jl-career-fair.jpg
END:VEVENT
BEGIN:VEVENT
DTSTART;TZID=UTC:20230917T160000
DTEND;TZID=UTC:20230917T190000
DTSTAMP:20260422T090302
CREATED:20230814T170135Z
LAST-MODIFIED:20230814T170135Z
UID:23020-1694966400-1694977200@gumptownmag.com
SUMMARY:Shindig
DESCRIPTION:The Child Protect Junior Executive Board Presents Shindig. 
URL:https://gumptownmag.com/event/shindig/
LOCATION:Alabama Shakespeare Festival\, 1 Festival Drive\, Montgomery\, AL\, 36117\, United States
ATTACH;FMTTYPE=image/jpeg:https://gumptownmag.com/wp-content/uploads/2023/08/366889727_763233409140756_7489910410507303764_n.jpg
END:VEVENT
BEGIN:VEVENT
DTSTART;TZID=UTC:20230914T080000
DTEND;TZID=UTC:20230915T170000
DTSTAMP:20260422T090302
CREATED:20230830T212422Z
LAST-MODIFIED:20230830T212422Z
UID:23059-1694678400-1694797200@gumptownmag.com
SUMMARY:Alabama Minority Vendor Conference
DESCRIPTION:To register visit: \nwww.minorityvendorconference.com
URL:https://gumptownmag.com/event/alabama-minority-vendor-conference/
LOCATION:BJCC\, 2100 Richard Arrington Blvd N\, Birmingham\, AL\, 35203\, United States
ATTACH;FMTTYPE=image/jpeg:https://gumptownmag.com/wp-content/uploads/2023/08/original-4E974E27-9F65-43CC-9734-483A9C3BA57A.jpeg
END:VEVENT
BEGIN:VEVENT
DTSTART;TZID=UTC:20230913T110000
DTEND;TZID=UTC:20230913T120000
DTSTAMP:20260422T090302
CREATED:20230814T165832Z
LAST-MODIFIED:20230814T165832Z
UID:23016-1694602800-1694606400@gumptownmag.com
SUMMARY:David's Garden of Life Ribbon Cutting Ceremony
DESCRIPTION:Help a Brother Out Foundation presents David’s Garden of Life Ribbon Cutting.
URL:https://gumptownmag.com/event/davids-garden-of-life-ribbon-cutting-ceremony/
LOCATION:Davids Grden of Life\, 1803 French Street\, Montgomery\, AL\, 36104\, United States
ATTACH;FMTTYPE=image/jpeg:https://gumptownmag.com/wp-content/uploads/2023/08/366825887_763233385807425_5481010769831108172_n.jpg
END:VEVENT
BEGIN:VEVENT
DTSTART;TZID=UTC:20230910T150000
DTEND;TZID=UTC:20230910T170000
DTSTAMP:20260422T090302
CREATED:20230814T164928Z
LAST-MODIFIED:20230814T164928Z
UID:23012-1694358000-1694365200@gumptownmag.com
SUMMARY:A Tribute to Centennial Hill
DESCRIPTION:Celebrate a tribute to the historic Centennial Hill community near Downtown Montgomery. 
URL:https://gumptownmag.com/event/a-tribute-to-centennial-hill/
LOCATION:Tours of Montgomery\, 353 S. Jackson Street\, Montgomery\, AL\, 36104\, United States
ATTACH;FMTTYPE=image/jpeg:https://gumptownmag.com/wp-content/uploads/2023/08/centennial-hill.jpg
END:VEVENT
BEGIN:VEVENT
DTSTART;TZID=UTC:20230909T073000
DTEND;TZID=UTC:20230909T120000
DTSTAMP:20260422T090302
CREATED:20230713T202456Z
LAST-MODIFIED:20230713T202456Z
UID:22799-1694244600-1694260800@gumptownmag.com
SUMMARY:ASU Buzz Run 5K
DESCRIPTION:ASU Buzz Run 5K! Benefitting ASU’s Track & Field program and Department of Aerospace Studies.
URL:https://gumptownmag.com/event/asu-buzz-run-5k/
LOCATION:ASU Stadium\, 915 N University Drive\, Montgomery\, AL\, 36106\, United States
ATTACH;FMTTYPE=image/jpeg:https://gumptownmag.com/wp-content/uploads/2023/07/asu-buzz-run.jpg
END:VEVENT
BEGIN:VEVENT
DTSTART;TZID=UTC:20230901T220000
DTEND;TZID=UTC:20230902T020000
DTSTAMP:20260422T090302
CREATED:20230717T174407Z
LAST-MODIFIED:20230807T190707Z
UID:22827-1693605600-1693620000@gumptownmag.com
SUMMARY:Labor Day Classic Mixer
DESCRIPTION:Official After Party. \nVIP Section. Food. Drinks. 
URL:https://gumptownmag.com/event/labor-day-classic-mixer/
LOCATION:Union Station Train Shed\, 300 Water Street\, Montgomery\, AL\, United States
ATTACH;FMTTYPE=image/jpeg:https://gumptownmag.com/wp-content/uploads/2023/07/thomas_mixer2-1.jpg
END:VEVENT
BEGIN:VEVENT
DTSTART;TZID=UTC:20230831T190000
DTEND;TZID=UTC:20230902T170000
DTSTAMP:20260422T090302
CREATED:20230815T181303Z
LAST-MODIFIED:20230815T181303Z
UID:23025-1693508400-1693674000@gumptownmag.com
SUMMARY:Afterglow Concert Series
DESCRIPTION:City of Montgomery Department of Cultural Affairs presents Afterglow Concert Series Labor Day Classic Weekend.
URL:https://gumptownmag.com/event/afterglow-concert-series/
LOCATION:Riverwalk Stadium\, 200 Coosa Street\, Montgoomery\, AL\, United States
ATTACH;FMTTYPE=image/png:https://gumptownmag.com/wp-content/uploads/2023/08/unnamed-26.png
END:VEVENT
BEGIN:VEVENT
DTSTART;TZID=UTC:20230831T080000
DTEND;TZID=UTC:20230831T130000
DTSTAMP:20260422T090302
CREATED:20230717T173831Z
LAST-MODIFIED:20230717T173831Z
UID:22823-1693468800-1693486800@gumptownmag.com
SUMMARY:F Phi B Labor Day Golf Classic
DESCRIPTION:Special Guest Reggie Barlow\, XFL Coach of the Year. For more information call 1-808-349-6722. 
URL:https://gumptownmag.com/event/f-phi-b-labor-day-golf-classic/
LOCATION:Robert Trent Jones Golf Trail\, Prattville\, AL\, United States
ATTACH;FMTTYPE=image/jpeg:https://gumptownmag.com/wp-content/uploads/2023/07/thomas_bamastate_golftournament1.jpg
END:VEVENT
BEGIN:VEVENT
DTSTART;TZID=UTC:20230826T120000
DTEND;TZID=UTC:20230826T200000
DTSTAMP:20260422T090302
CREATED:20230717T175429Z
LAST-MODIFIED:20230717T175429Z
UID:22830-1693051200-1693080000@gumptownmag.com
SUMMARY:Stanhope Elmore HS 2nd Annual All Class Reunion
DESCRIPTION:For more information call: \nTerri Lucas Osborne 334-414-3956 \nRoosevelt Watkins 334-595-1234
URL:https://gumptownmag.com/event/stanhope-elmore-hs-2nd-annual-all-class-reunion/
LOCATION:Coosada Park\, 577 Pecan Grove Road\, Coosada\, AL\, 36020\, United States
ATTACH;FMTTYPE=image/jpeg:https://gumptownmag.com/wp-content/uploads/2023/07/stanhope.jpg
END:VEVENT
BEGIN:VEVENT
DTSTART;TZID=UTC:20230823T080000
DTEND;TZID=UTC:20230827T170000
DTSTAMP:20260422T090302
CREATED:20230712T154541Z
LAST-MODIFIED:20230712T154541Z
UID:22787-1692777600-1693155600@gumptownmag.com
SUMMARY:Pastoral Installation of Rev. Cameron R. Thomas
DESCRIPTION:Pastoral Installation of Rev. Cameron R. Thomas\, Hutchinson Missionary Baptist Church. 
URL:https://gumptownmag.com/event/pastoral-installation-of-rev-cameron-r-thomas/
LOCATION:Hutchinson Baptist Church\, 860 Grove Street\, Montgomery\, AL\, 36104\, United States
ATTACH;FMTTYPE=image/jpeg:https://gumptownmag.com/wp-content/uploads/2023/07/360097449_743387811125316_6075071957931022065_n.jpg
END:VEVENT
BEGIN:VEVENT
DTSTART;TZID=UTC:20230819T120000
DTEND;TZID=UTC:20230819T150000
DTSTAMP:20260422T090302
CREATED:20230731T202200Z
LAST-MODIFIED:20230801T153919Z
UID:22948-1692446400-1692457200@gumptownmag.com
SUMMARY:All About the Bounce 2nd Annual Customer Appreciation
DESCRIPTION:Free food\, free school supplies\, computer giveaways\, bounce houses\, game cave\, game room. 
URL:https://gumptownmag.com/event/all-about-the-bounce-2nd-annual-customer-appreciation/
LOCATION:All About the Bounce\, 67 Penser Blvd\, Millbrook\, AL\, 36054\, United States
ATTACH;FMTTYPE=image/jpeg:https://gumptownmag.com/wp-content/uploads/2023/07/363829171_753846480079449_8359870403173117277_n.jpg
END:VEVENT
BEGIN:VEVENT
DTSTART;TZID=UTC:20230819T100000
DTEND;TZID=UTC:20230819T140000
DTSTAMP:20260422T090302
CREATED:20230814T163944Z
LAST-MODIFIED:20230814T163944Z
UID:23004-1692439200-1692453600@gumptownmag.com
SUMMARY:CrimeStoppers Gun Buyback Event
DESCRIPTION:On Saturday\, August 19\, 2023\, starting at 10:00 a.m. Central Alabama CrimeStoppers\, in\nconjunction with the City of Montgomery and Montgomery Police Department\, will be hosting an anonymous Gun Buyback event at the Bryant Missionary Baptist Church located at 3645 Norman Bridge Road in Montgomery\, AL. Citizens who surrender guns at this event will receive gift cards in the amount of $50 for any rifle or shotgun\, $100 for any functioning handgun\, and $200 for an assault and/or semi-auto rifle.
URL:https://gumptownmag.com/event/crimestoppers-gun-buyback-event/
LOCATION:Bryant Missionary Baptist Church\, 3645 Norman Bridge Road\, Montgomery\, AL\, United States
ATTACH;FMTTYPE=image/png:https://gumptownmag.com/wp-content/uploads/2023/08/Saturday-August-19-2023.png
END:VEVENT
BEGIN:VEVENT
DTSTART;TZID=UTC:20230819T080000
DTEND;TZID=UTC:20230819T130000
DTSTAMP:20260422T090302
CREATED:20230814T164343Z
LAST-MODIFIED:20230814T164343Z
UID:23008-1692432000-1692450000@gumptownmag.com
SUMMARY:Montgomery City/County Library Family Fun Day
DESCRIPTION:Celebrate the end of summer with MCCPL!
URL:https://gumptownmag.com/event/montgomery-city-county-library-family-fun-day/
LOCATION:Juliette Hampton Morgan Library\, 245 High Street\, Montgomery\, AL\, 36104\, United States
ATTACH;FMTTYPE=image/jpeg:https://gumptownmag.com/wp-content/uploads/2023/08/Library-Fest-2023-1.jpg
END:VEVENT
BEGIN:VEVENT
DTSTART;TZID=UTC:20230812T160000
DTEND;TZID=UTC:20230812T190000
DTSTAMP:20260422T090302
CREATED:20230807T191539Z
LAST-MODIFIED:20230807T191539Z
UID:22962-1691856000-1691866800@gumptownmag.com
SUMMARY:City Health & Wellness Fest
DESCRIPTION:Presented by The City of Montgomery and Central Alabama Neighborhood Health Initiative. It’s with great pleasure that we announce our upcoming event on Dexter Avenue in downtown Montgomery on August 12\, 2023\, from 4:00 am to 7:00 pm. This event will feature health vendors\, health professionals\, testing\, vaccinations\, exercise demonstrations\, and more.
URL:https://gumptownmag.com/event/city-health-wellness-fest/
LOCATION:The Fountain\, 1 Court Street\, Montgomery\, AL\, United States
ATTACH;FMTTYPE=image/jpeg:https://gumptownmag.com/wp-content/uploads/2023/08/City-Fest-Digital-Flyer-2-1.jpg
END:VEVENT
BEGIN:VEVENT
DTSTART;TZID=UTC:20230805T140000
DTEND;TZID=UTC:20230805T170000
DTSTAMP:20260422T090302
CREATED:20230713T201313Z
LAST-MODIFIED:20230713T201313Z
UID:22793-1691244000-1691254800@gumptownmag.com
SUMMARY:Silent Screams
DESCRIPTION:The stage play dealing with anxiety\, depression\, suicide\, and substance abuse. For tickets and more information call 334-672-5756. 
URL:https://gumptownmag.com/event/silent-screams/
LOCATION:Davis Theatre\, 251 Montgomery Street\, Montgomery\, AL\, 36106\, United States
ATTACH;FMTTYPE=image/jpeg:https://gumptownmag.com/wp-content/uploads/2023/07/silent-screams.jpg
END:VEVENT
END:VCALENDAR