BEGIN:VCALENDAR
VERSION:2.0
PRODID:-//Gumptown Magazine - ECPv6.15.20//NONSGML v1.0//EN
CALSCALE:GREGORIAN
METHOD:PUBLISH
X-ORIGINAL-URL:https://gumptownmag.com
X-WR-CALDESC:Events for Gumptown Magazine
REFRESH-INTERVAL;VALUE=DURATION:PT1H
X-Robots-Tag:noindex
X-PUBLISHED-TTL:PT1H
BEGIN:VTIMEZONE
TZID:UTC
BEGIN:STANDARD
TZOFFSETFROM:+0000
TZOFFSETTO:+0000
TZNAME:UTC
DTSTART:20240101T000000
END:STANDARD
END:VTIMEZONE
BEGIN:VEVENT
DTSTART;TZID=UTC:20251009T173000
DTEND;TZID=UTC:20251009T210000
DTSTAMP:20260419T211737
CREATED:20250922T200514Z
LAST-MODIFIED:20250922T200514Z
UID:24685-1760031000-1760043600@gumptownmag.com
SUMMARY:Spotlight Social
DESCRIPTION:
URL:https://gumptownmag.com/event/spotlight-social/
LOCATION:Red Bluff\, 335 Coosa Street\, Montgomery\, AL\, 36104\, United States
ATTACH;FMTTYPE=image/jpeg:https://gumptownmag.com/wp-content/uploads/2025/09/1000014361.jpg
END:VEVENT
BEGIN:VEVENT
DTSTART;TZID=UTC:20251018T100000
DTEND;TZID=UTC:20251018T140000
DTSTAMP:20260419T211737
CREATED:20251006T191239Z
LAST-MODIFIED:20251006T191239Z
UID:24733-1760781600-1760796000@gumptownmag.com
SUMMARY:Harvest Fest
DESCRIPTION:Montgomery Habitat for Humanity invites the community to join in the fun at Harvest Fest 2025\, taking place on Saturday\, October 18 from 10 a.m. to 2 p.m. at the Montgomery Habitat ReStore\, located at 2266 E. South Blvd. \nThis family-friendly event celebrates the fall season with games\, prizes\, and free food\, including hot dogs and burgers. Guests can enjoy festive activities such as the “Spin the Wheel” prize game and take advantage of up to 20% off ReStore merchandise. Pumpkins will also be available for purchase.
URL:https://gumptownmag.com/event/harvest-fest/
LOCATION:Habitat for Humanity\, 2266 E.S. Blvd\, Montgomery\, AL\, 36116\, United States
ATTACH;FMTTYPE=image/png:https://gumptownmag.com/wp-content/uploads/2025/10/Harvest-Fest-Flyer.png
END:VEVENT
BEGIN:VEVENT
DTSTART;TZID=UTC:20251022T100000
DTEND;TZID=UTC:20251022T120000
DTSTAMP:20260419T211737
CREATED:20251009T174016Z
LAST-MODIFIED:20251009T174016Z
UID:24746-1761127200-1761134400@gumptownmag.com
SUMMARY:Breast Cancer Awareness Walk
DESCRIPTION:The City of Montgomery Parks and Recreation Department will host a Breast Cancer Awareness\nWalk on Tuesday\, October 22\, 2025\, at Oak Park\, 1010 Forest Ave.\, starting at 10 a.m. The\nevent aims to raise awareness\, honor survivors\, and support those currently battling breast\ncancer. \nParticipants are encouraged to wear pink attire to symbolize solidarity and support for the cause.\nThe walk will feature light refreshments\, goodies\, and a special balloon release\, fostering a warm\nand supportive atmosphere for all attendees. \nBreast cancer remains a significant health concern\, affecting one in eight women in the United\nStates during their lifetime. Events like this walk play a crucial role in promoting early detection\nand supporting ongoing research efforts. \nOak Park\, a central location in Montgomery\, provides an accessible venue for community\nmembers to come together in this meaningful initiative. The event is free and open to the public\,\nwith no prior registration required.
URL:https://gumptownmag.com/event/breast-cancer-awareness-walk/
LOCATION:Oak Prk\, 1010 Forest Avenue\, Montgomery\, AL\, 36106
ATTACH;FMTTYPE=image/png:https://gumptownmag.com/wp-content/uploads/2025/10/BreastCancerAwarenessWalk.png
END:VEVENT
BEGIN:VEVENT
DTSTART;TZID=UTC:20251026T150000
DTEND;TZID=UTC:20251026T170000
DTSTAMP:20260419T211737
CREATED:20251022T175253Z
LAST-MODIFIED:20251022T175253Z
UID:24769-1761490800-1761498000@gumptownmag.com
SUMMARY:St. John's AME Church Fall Festival
DESCRIPTION:
URL:https://gumptownmag.com/event/st-johns-ame-church-fall-festival-2/
LOCATION:AL
ATTACH;FMTTYPE=image/jpeg:https://gumptownmag.com/wp-content/uploads/2025/10/Fall-Festival-Flyer25.jpg
END:VEVENT
BEGIN:VEVENT
DTSTART;TZID=UTC:20251030T183000
DTEND;TZID=UTC:20251030T210000
DTSTAMP:20260419T211737
CREATED:20251006T210626Z
LAST-MODIFIED:20251006T210914Z
UID:24737-1761849000-1761858000@gumptownmag.com
SUMMARY:Haunted Multiplex
DESCRIPTION:The City of Montgomery Parks and Recreation Department invites teens aged 13 to 17 to the Haunted Multiplex at Cramton Bowl on Oct. 30 from 6:30 p.m. to 9:00 p.m. for a thrilling Halloween experience.\nThe event features a spine-chilling maze with actors\, eerie decorations\, a creepy atmosphere\, and\nhaunting music\, promising an unforgettable adventure. Teens are encouraged to wear their most\nimpressive costumes to enhance the festive atmosphere. \nTo ensure a safe environment\, security personnel and staff will be present throughout the\nevening. For the safety and comfort of all guests\, no bags will be allowed inside the event venue.\nThe event is free of charge and includes a haunted house experience and a goody bag for each\nparticipant. Please note\, this event is not intended for anyone under the age of 13. No exceptions.
URL:https://gumptownmag.com/event/haunted-multiplex/
LOCATION:Multiplex\, 220 Hall Street\, Montgomery
ATTACH;FMTTYPE=image/png:https://gumptownmag.com/wp-content/uploads/2025/10/HauntedMultiplex-1.png
END:VEVENT
BEGIN:VEVENT
DTSTART;TZID=UTC:20251102T140000
DTEND;TZID=UTC:20251102T180000
DTSTAMP:20260419T211737
CREATED:20250922T201103Z
LAST-MODIFIED:20250922T201103Z
UID:24690-1762092000-1762106400@gumptownmag.com
SUMMARY:The Girls Summit
DESCRIPTION:Facebook – Together We Can Incorporated \nWebsite – www.twcal.org \nTickets – https://www.eventbrite.com/e/girls-summit-2025-tickets-1592417727289?aff=oddtdtcreator
URL:https://gumptownmag.com/event/the-girls-summit/
LOCATION:Embassy Suites\, 300 Tallapoosa\, Montgomery\, Alabama\, 36104
ATTACH;FMTTYPE=image/jpeg:https://gumptownmag.com/wp-content/uploads/2025/09/image3.jpeg
END:VEVENT
BEGIN:VEVENT
DTSTART;TZID=UTC:20251109T150000
DTEND;TZID=UTC:20251109T180000
DTSTAMP:20260419T211737
CREATED:20251022T175042Z
LAST-MODIFIED:20251022T175042Z
UID:24766-1762700400-1762711200@gumptownmag.com
SUMMARY:Bethel Missionary Baptist Church Choir Day
DESCRIPTION:
URL:https://gumptownmag.com/event/bethel-missionary-baptist-church-choir-day/
LOCATION:AL
ATTACH;FMTTYPE=image/jpeg:https://gumptownmag.com/wp-content/uploads/2025/10/IMG_4658.jpg
END:VEVENT
BEGIN:VEVENT
DTSTART;TZID=UTC:20251116T100000
DTEND;TZID=UTC:20251116T130000
DTSTAMP:20260419T211737
CREATED:20251022T174841Z
LAST-MODIFIED:20251022T174841Z
UID:24763-1763287200-1763298000@gumptownmag.com
SUMMARY:Bethel Missionary Baptist Church 158th Church Anniversary
DESCRIPTION:
URL:https://gumptownmag.com/event/bethel-missionary-baptist-church-158th-church-anniversary/
LOCATION:Bethel Baptist Church\, 2106 Mill Street\, Montgomery\, AL\, 36108\, United States
ATTACH;FMTTYPE=image/jpeg:https://gumptownmag.com/wp-content/uploads/2025/10/IMG_4662.jpg
END:VEVENT
BEGIN:VEVENT
DTSTART;TZID=UTC:20260217T080000
DTEND;TZID=UTC:20260218T170000
DTSTAMP:20260419T211737
CREATED:20260213T000244Z
LAST-MODIFIED:20260213T000244Z
UID:24852-1771315200-1771434000@gumptownmag.com
SUMMARY:Alvin Ailey American Dance Theater
DESCRIPTION:Tickets available! 
URL:https://gumptownmag.com/event/alvin-ailey-american-dance-theater/
LOCATION:AL
ATTACH;FMTTYPE=image/jpeg:https://gumptownmag.com/wp-content/uploads/2026/02/alvin-ailey.jpg
END:VEVENT
BEGIN:VEVENT
DTSTART;TZID=UTC:20260222T160000
DTEND;TZID=UTC:20260222T190000
DTSTAMP:20260419T211737
CREATED:20260213T000646Z
LAST-MODIFIED:20260213T001156Z
UID:24855-1771776000-1771786800@gumptownmag.com
SUMMARY:The 4th Annual Black History Gala
DESCRIPTION:
URL:https://gumptownmag.com/event/the-4th-annual-black-history-gala/
LOCATION:Millbrook Civic Center\, 3168 Park Circle\, Millbrook\, AL\, United States
ATTACH;FMTTYPE=image/jpeg:https://gumptownmag.com/wp-content/uploads/2026/02/cia-black-history.jpg
END:VEVENT
BEGIN:VEVENT
DTSTART;TZID=UTC:20260228T160000
DTEND;TZID=UTC:20260228T190000
DTSTAMP:20260419T211737
CREATED:20260212T234915Z
LAST-MODIFIED:20260212T234915Z
UID:24848-1772294400-1772305200@gumptownmag.com
SUMMARY:Love is in the Air Comedy Show
DESCRIPTION:For tickets call Min. LaKeta Patterson at 334-368-1863 or nay KDWC Disciple for more information.  \n  \n 
URL:https://gumptownmag.com/event/love-is-in-the-air-comedy-show/
LOCATION:True Life Worship Center\, 3975 Eastern Blvd.\, Montgomery\, AL\, 36116\, United States
ATTACH;FMTTYPE=image/jpeg:https://gumptownmag.com/wp-content/uploads/2026/02/love-is-in-the-air.jpg
END:VEVENT
BEGIN:VEVENT
DTSTART;TZID=UTC:20260303T160000
DTEND;TZID=UTC:20260303T190000
DTSTAMP:20260419T211737
CREATED:20260213T195258Z
LAST-MODIFIED:20260213T195258Z
UID:24870-1772553600-1772564400@gumptownmag.com
SUMMARY:Table Talk Tuesday
DESCRIPTION:
URL:https://gumptownmag.com/event/table-talk-tuesday/
LOCATION:Wingers\, 455 Dexter Ave\, Montgomery\, AL\, 36104\, United States
ATTACH;FMTTYPE=image/jpeg:https://gumptownmag.com/wp-content/uploads/2026/02/table-talk.jpg
END:VEVENT
BEGIN:VEVENT
DTSTART;TZID=UTC:20260313T093000
DTEND;TZID=UTC:20260313T130000
DTSTAMP:20260419T211737
CREATED:20260303T005703Z
LAST-MODIFIED:20260303T005703Z
UID:24897-1773394200-1773406800@gumptownmag.com
SUMMARY:MPS Special Olympics
DESCRIPTION:What: 2026 Montgomery Public Schools Special Olympics\nWhen: Friday\, March 13\, 2026\, at 9:30 a.m.\nWhere: Park Crossing High School – 8000 Park Crossing\, Montgomery\, AL 36117 \nDetails:\nMontgomery Public Schools proudly invites families\, staff\, and community members\nto attend the 2026 MPS Special Olympics. Come cheer on our incredible\nstudent-athletes as they demonstrate determination\, teamwork\, and school pride. This\ninspiring event celebrates their abilities\, achievements\, and the spirit of competition\nacross our schools. \nYour support truly makes a difference — join us in celebrating courage\, achievement\,\nand the true spirit of the Special Olympics.
URL:https://gumptownmag.com/event/mps-special-olympics/
LOCATION:Park Crossing High School\, 800 Park Crossing\, Montgomery\, AL\, 36117\, United States
ATTACH;FMTTYPE=image/png:https://gumptownmag.com/wp-content/uploads/2026/03/MPS-Special-Olympics.png
END:VEVENT
BEGIN:VEVENT
DTSTART;TZID=UTC:20260328T200000
DTEND;TZID=UTC:20260328T200000
DTSTAMP:20260419T211737
CREATED:20260213T194122Z
LAST-MODIFIED:20260213T194122Z
UID:24864-1774728000-1774728000@gumptownmag.com
SUMMARY:Big Yayo Concert
DESCRIPTION:
URL:https://gumptownmag.com/event/big-yayo-concert/
LOCATION:Sugaray’s\, 3439 McGehee Road\, Montgomery\, AL\, 36111\, United States
ATTACH;FMTTYPE=image/jpeg:https://gumptownmag.com/wp-content/uploads/2026/02/sugar-ray.jpg
END:VEVENT
BEGIN:VEVENT
DTSTART;TZID=UTC:20260411T070000
DTEND;TZID=UTC:20260411T120000
DTSTAMP:20260419T211737
CREATED:20260212T234227Z
LAST-MODIFIED:20260212T234227Z
UID:24845-1775890800-1775908800@gumptownmag.com
SUMMARY:ALL Cancer Colors Matter Walk
DESCRIPTION:
URL:https://gumptownmag.com/event/all-cancer-colors-matter-walk-2/
LOCATION:Blount Cutural Park\, 1 Festival Drive\, Montgomery\, AL\, 36117\, United States
ATTACH;FMTTYPE=image/jpeg:https://gumptownmag.com/wp-content/uploads/2026/02/cacner-walk.jpg
END:VEVENT
BEGIN:VEVENT
DTSTART;TZID=UTC:20260418T090000
DTEND;TZID=UTC:20260418T130000
DTSTAMP:20260419T211737
CREATED:20260213T193804Z
LAST-MODIFIED:20260213T193804Z
UID:24861-1776502800-1776517200@gumptownmag.com
SUMMARY:Emerson Smith Autism Walk
DESCRIPTION:
URL:https://gumptownmag.com/event/emerson-smith-autism-walk/
LOCATION:AUM Taylor Center\, Montgomery\, Alabama
ATTACH;FMTTYPE=image/jpeg:https://gumptownmag.com/wp-content/uploads/2026/02/autism-walks.jpg
END:VEVENT
END:VCALENDAR