BEGIN:VCALENDAR
VERSION:2.0
PRODID:-//Gumptown Magazine - ECPv6.15.20//NONSGML v1.0//EN
CALSCALE:GREGORIAN
METHOD:PUBLISH
X-WR-CALNAME:Gumptown Magazine
X-ORIGINAL-URL:https://gumptownmag.com
X-WR-CALDESC:Events for Gumptown Magazine
REFRESH-INTERVAL;VALUE=DURATION:PT1H
X-Robots-Tag:noindex
X-PUBLISHED-TTL:PT1H
BEGIN:VTIMEZONE
TZID:UTC
BEGIN:STANDARD
TZOFFSETFROM:+0000
TZOFFSETTO:+0000
TZNAME:UTC
DTSTART:20230101T000000
END:STANDARD
END:VTIMEZONE
BEGIN:VEVENT
DTSTART;TZID=UTC:20241120T100000
DTEND;TZID=UTC:20241120T140000
DTSTAMP:20260421T224128
CREATED:20241014T221011Z
LAST-MODIFIED:20241014T221011Z
UID:23925-1732096800-1732111200@gumptownmag.com
SUMMARY:St. John's Episcoal Church Annual Bazaar
DESCRIPTION:Please join the Episcopal Church Women (ECW) of St. John’s Episcopal Church at its annual bazaar and luncheon on Wednesday\, November 20\, 2024\, from 10-2 p.m. in the Education Building at the church at 113 Madison Ave.\, Montgomery. \nSunday School classrooms will be turned into shops for handmade arts and crafts\, a pantry of homemade casseroles and breads\, cakes pies and cookies\, a treasure attic full of gently used household goods including kitchen ware\, china and silver\, holiday and decorative ware and much more. \nThe Pantry will boast a variety of homemade foods perfect for family meals\, tailgating\, Thanksgiving and Christmas. Annual favorites include cornbread dressing\, sweet potato crisp\, spinach & artichoke casserole\, chicken and wild rice casserole\, chicken tetrazzini\, baked ziti\, shrimp gumbo\, spaghetti sauce\, chili\, camp stew\, lemon chicken soup\, mulligatawny soup\, and much more. \nThe Craft Room will offer many handmade items crafted by talented parishioners and local artists\, as well as seasonal decorations such as unique Christmas ornaments and Thanksgiving-themed décor\, hand painted wax lambs made with candles from the St. John’s altar\, painted Della Robbias\, and many handsewn items.  \nThe Treasure Attic will feature fancy and plain glasses\, decorative flower pots\, pitchers big and small\, beautiful linen cocktail napkins\, puzzles and silver-plated serving ware. \nEach year the bazaar presents a unique Silent Auction opportunity thanks to the generosity of St. John’s members and friends.  This year’s Silent Auction will be a haven for art lovers\, antique collectors and treasure hunters with signed paintings and prints\, antique china and silverplate\, intricate cut glass bowls\, items by Mackenzie Childs\, Vietri\, Haveland\, Waterford\, and Byers Choice (naming only a few)\, as well as a variety of indoor and outdoor décor.  Silent bidding will begin at 10 a.m. with closing bids due by 1:30 p.m.  \nAll proceeds are designated for the ECW’s outreach projects that benefit the local community. \nThe Luncheon will be served in the Parish House from 11-1. The menu is pork tenderloin with mushroom and onion gravy\, rice pilaf\, Italian green beans\, spring greens vinaigrette salad with mandarin oranges and strawberries\, rolls\, the bazaar’s signature Blueberry Crumble\, and iced tea\, water or coffee. \nLuncheon tickets are $14 each and can be purchased at the door or in advance at the church\, or via the website or QR code below. Take-out lunch will be available for drive-through in the rear parking lot at the tent by the kitchen door. \nFor more information\, call 262-1937 or email constance@stjohnsmontgomery.org. \nstjohnsmontgomery.org/about-us/st-johns-annual-bazaar/
URL:https://gumptownmag.com/event/st-johns-episcoal-church-annual-bazaar/
LOCATION:St. John’s Episcopal Church\, 113 Madison Ave\, Montgomery\, AL\, 36104\, United States
ATTACH;FMTTYPE=image/png:https://gumptownmag.com/wp-content/uploads/2024/10/St.-Johns-2024-Bazaar-1.png
END:VEVENT
BEGIN:VEVENT
DTSTART;TZID=UTC:20241117T133000
DTEND;TZID=UTC:20241117T153000
DTSTAMP:20260421T224128
CREATED:20241104T230111Z
LAST-MODIFIED:20241104T230111Z
UID:23988-1731850200-1731857400@gumptownmag.com
SUMMARY:Bethel's 157th Church Anniversary
DESCRIPTION:
URL:https://gumptownmag.com/event/bethels-157th-church-anniversary/
LOCATION:Bethel Baptist Church\, 2106 Mill Street\, Montgomery\, AL\, 36108\, United States
ATTACH;FMTTYPE=image/png:https://gumptownmag.com/wp-content/uploads/2024/11/IMG_3743.png
END:VEVENT
BEGIN:VEVENT
DTSTART;TZID=UTC:20241109T070000
DTEND;TZID=UTC:20241109T130000
DTSTAMP:20260421T224128
CREATED:20241017T163115Z
LAST-MODIFIED:20241023T021112Z
UID:23936-1731135600-1731157200@gumptownmag.com
SUMMARY:Food Drive
DESCRIPTION:Food Drive at Bethel Missionary Baptist Church. 
URL:https://gumptownmag.com/event/food-drive/
LOCATION:Bethel Baptist Church\, 2106 Mill Street\, Montgomery\, AL\, 36108\, United States
ATTACH;FMTTYPE=image/png:https://gumptownmag.com/wp-content/uploads/2024/10/IMG_3103.png
END:VEVENT
BEGIN:VEVENT
DTSTART;TZID=UTC:20241031T160000
DTEND;TZID=UTC:20241031T190000
DTSTAMP:20260421T224128
CREATED:20241028T205915Z
LAST-MODIFIED:20241028T210029Z
UID:23973-1730390400-1730401200@gumptownmag.com
SUMMARY:Mall-o-ween
DESCRIPTION:Eastdall Mall Halloweeen Event. Family Friendly. 
URL:https://gumptownmag.com/event/mall-o-ween/
LOCATION:Eastdale Mall\, 1000 Eastdale Mall\, Montgomery\, AL\, 36117\, United States
ATTACH;FMTTYPE=image/jpeg:https://gumptownmag.com/wp-content/uploads/2024/10/unnamed-2.jpg
END:VEVENT
BEGIN:VEVENT
DTSTART;TZID=UTC:20241027T150000
DTEND;TZID=UTC:20241027T170000
DTSTAMP:20260421T224128
CREATED:20241023T021744Z
LAST-MODIFIED:20241023T021744Z
UID:23951-1730041200-1730048400@gumptownmag.com
SUMMARY:St. John's AME Church Fall Festival
DESCRIPTION:St. John’s African Methodist Episcopal Church (Montgomery) invites you to attend their\ncommunity Fall Festival 2024 on Sunday\, October 27\, 2024\, from 3pm to 5pm (rain or shine).\nThe festival will include a Health Fair\, Carnival Games\, Horseback Riding\, Hay Rides\, Live Music\,\nLine Dancing and Trunks with Treats. There will also be a Mini Christion Concert by the Carver\nHigh School Choir\, Free Food and much more! Admission to the event if FREE!! The church is\nlocated at 807 Madison Avenue; Montgomery\, AL 36104…on the corner of Madison Avenue and\nRipley Street. For more information\, contact St. John’s church office @ (334)265-4136.\nRoosevelt & Shelia Williams\, Pastors.
URL:https://gumptownmag.com/event/st-johns-ame-church-fall-festival/
LOCATION:St. John’s AME Church\, 807 Madison Avenue\, Montgomery\, AL\, 36104\, United States
ATTACH;FMTTYPE=image/jpeg:https://gumptownmag.com/wp-content/uploads/2024/10/Fall-Festival-Flyer-2024-1-scaled.jpg
END:VEVENT
BEGIN:VEVENT
DTSTART;TZID=UTC:20240919T173000
DTEND;TZID=UTC:20240919T200000
DTSTAMP:20260421T224128
CREATED:20240816T154620Z
LAST-MODIFIED:20240909T165656Z
UID:23828-1726767000-1726776000@gumptownmag.com
SUMMARY:Five Horizon Health Services Gatsby Underground
DESCRIPTION:Five Horizons Health Services “Gatsby Underground” is September 15th at The Tavern and Porter Room Downtown Montgomery!\n September 15th\n 5:30‐8PM\n 12 West Jefferson Street Montgomery\, AL\n https://www.fivehorizons.org/gatsby-underground
URL:https://gumptownmag.com/event/five-horizon-health-services-gatsby-underground/
LOCATION:The Tavern\, 12 West Jefferson Street\, Montgomery\, AL\, 36103\, United States
ATTACH;FMTTYPE=image/jpeg:https://gumptownmag.com/wp-content/uploads/2024/08/5-horizon.jpg
END:VEVENT
BEGIN:VEVENT
DTSTART;TZID=UTC:20240908T173000
DTEND;TZID=UTC:20240908T193000
DTSTAMP:20260421T224128
CREATED:20240829T220040Z
LAST-MODIFIED:20240829T220040Z
UID:23858-1725816600-1725823800@gumptownmag.com
SUMMARY:Montgomery Alabama Chapter GMWA Meet and Greet
DESCRIPTION:
URL:https://gumptownmag.com/event/montgomery-alabama-chapter-gmwa-meet-and-greet/
LOCATION:Mt. Gillard Church\, 3323 Day Street\, Montgomery\, AL\, 36108\, United States
ATTACH;FMTTYPE=image/jpeg:https://gumptownmag.com/wp-content/uploads/2024/08/IMG_20240805_093842.jpg
END:VEVENT
BEGIN:VEVENT
DTSTART;TZID=UTC:20240907T090000
DTEND;TZID=UTC:20240907T110000
DTSTAMP:20260421T224128
CREATED:20240829T003828Z
LAST-MODIFIED:20240829T003956Z
UID:23850-1725699600-1725706800@gumptownmag.com
SUMMARY:Crime Victims Breakfast
DESCRIPTION:To RSVP call Ro Tyus at 334-201-9169.
URL:https://gumptownmag.com/event/crime-victims-breakfast/
LOCATION:Union Station Train Shed\, 300 Water Street\, Montgomery\, AL\, United States
ATTACH;FMTTYPE=image/jpeg:https://gumptownmag.com/wp-content/uploads/2024/08/crime-victim-breakfast.jpg
END:VEVENT
BEGIN:VEVENT
DTSTART;TZID=UTC:20240828T170000
DTEND;TZID=UTC:20240828T200000
DTSTAMP:20260421T224128
CREATED:20240816T153631Z
LAST-MODIFIED:20240816T205327Z
UID:23823-1724864400-1724875200@gumptownmag.com
SUMMARY:HBCU Greek Mixer
DESCRIPTION:Join us for the Blacks in Tech HBCU/Greek Mixer at Alley Station! This exciting event is the perfect opportunity to connect with fellow HBCU alumni\, students\, and members of the Greek community. Immerse yourself in the vibrant atmosphere as we celebrate the rich legacies of Historically Black Colleges and Universities and Greek life. \nCome dressed in your finest school or Greek paraphernalia and be ready to make new friends\, network\, and enjoy an evening of unity and celebration. This mixer is not just an event; it’s a celebration of heritage\, community\, and the future of Blacks in Tech. Don’t miss out on this fantastic opportunity to be part of a dynamic and inspiring gathering! \nRegistration required\, secure your spot today!
URL:https://gumptownmag.com/event/hbcu-greek-mixer/
LOCATION:Alley Station Warehouse\, 150 Commerce Street\, Montgomery\, AL\, United States
ATTACH;FMTTYPE=image/png:https://gumptownmag.com/wp-content/uploads/2024/08/2024-Greek-Mixer-5-x-5-in.png
END:VEVENT
BEGIN:VEVENT
DTSTART;TZID=UTC:20240803T150000
DTEND;TZID=UTC:20240803T180000
DTSTAMP:20260421T224128
CREATED:20240710T174611Z
LAST-MODIFIED:20240710T174611Z
UID:23661-1722697200-1722708000@gumptownmag.com
SUMMARY:Back to School Bash
DESCRIPTION:Montgomery\, Ala. – To celebrate the start of the new academic year\, Montgomery Public Schools will host our annual Back to School Bash on Saturday\, August 3\, from 3 p.m. to 6 p.m. at Garrett Coliseum\, 1555 Federal Drive. This free event will include food\, hands-on activities\, inflatables\, and entertainment for students and families as they prepare for the upcoming school year. \n  \nWe are excited to join forces with our sponsors and community partners. The Back-to-School Bash is designed to help families prepare for the first day of school on Thursday\, August 8\, and the 2024- 2025 academic year. Families will also have the opportunity to receive free backpacks and school supplies. \n  \nActivities at this year’s event will include: \n  \n\n\nLearning & Fun: Learning activities and resources with MPS team and community partners\, craft stations\, STEM activities\, face painting\, and more \n\n\nCommunity Resources: There will be many community organizations available to provide informational resources for families \n\n\nFood: Families can enjoy free food sponsored by Omega Psi Phi Fraternity\, Incorporated \n\n\nEntertainment: Performances and music from our very own students and a special guest. \n\n\n  \n“We are thrilled to host this event with our students and families of MPS to start the school year off on the right foot\,” said Dr. Melvin Brown\, Superintendent. “We are grateful for the support of our sponsors and community partners\, and we look forward to a fun and educational event for all who attend.” \n  \nMontgomery Public Schools looks forward to seeing everyone at Garrett Coliseum for a day of excitement and preparation for the new school year.
URL:https://gumptownmag.com/event/back-to-school-bash/
LOCATION:Garrett Coliseum\, 1555 Federal Drive\, Montgomery\, AL\, 36107\, United States
ATTACH;FMTTYPE=image/jpeg:https://gumptownmag.com/wp-content/uploads/2024/07/FB_IMG_1720203695293.jpg
END:VEVENT
BEGIN:VEVENT
DTSTART;TZID=UTC:20240803T100000
DTEND;TZID=UTC:20240803T140000
DTSTAMP:20260421T224128
CREATED:20240710T170050Z
LAST-MODIFIED:20240710T170050Z
UID:23657-1722679200-1722693600@gumptownmag.com
SUMMARY:Montgomery County Probate Court Back to School
DESCRIPTION:
URL:https://gumptownmag.com/event/montgomery-county-probate-court-back-to-school/
LOCATION:Multiplex\, 220 Hall Street\, Montgomery
ATTACH;FMTTYPE=image/jpeg:https://gumptownmag.com/wp-content/uploads/2024/07/FB_IMG_1720053562791.jpg
END:VEVENT
BEGIN:VEVENT
DTSTART;TZID=UTC:20240803T100000
DTEND;TZID=UTC:20240803T120000
DTSTAMP:20260421T224128
CREATED:20240710T182202Z
LAST-MODIFIED:20240710T182202Z
UID:23664-1722679200-1722686400@gumptownmag.com
SUMMARY:3rd Annual Back to School Giveaway
DESCRIPTION:
URL:https://gumptownmag.com/event/3rd-annual-back-to-school-giveaway/
LOCATION:Boys and Girls Club\, 2612 Lower Wetumpka\, Montgomery\, AL\, 36110\, United States
ATTACH;FMTTYPE=image/jpeg:https://gumptownmag.com/wp-content/uploads/2024/07/Screenshot_20240710_080358_Instagram.jpg
END:VEVENT
BEGIN:VEVENT
DTSTART;TZID=UTC:20240727T100000
DTEND;TZID=UTC:20240727T140000
DTSTAMP:20260421T224128
CREATED:20240710T184037Z
LAST-MODIFIED:20240710T184037Z
UID:23669-1722074400-1722088800@gumptownmag.com
SUMMARY:Annual Back to School Bash and Family Fun Day
DESCRIPTION:
URL:https://gumptownmag.com/event/annual-back-to-school-bash-and-family-fun-day/
LOCATION:Multiplex\, 220 Hall Street\, Montgomery
ATTACH;FMTTYPE=image/jpeg:https://gumptownmag.com/wp-content/uploads/2024/07/FB_IMG_1720204953311.jpg
END:VEVENT
BEGIN:VEVENT
DTSTART;TZID=UTC:20240710T100000
DTEND;TZID=UTC:20240710T160000
DTSTAMP:20260421T224128
CREATED:20240516T211418Z
LAST-MODIFIED:20240516T211418Z
UID:23595-1720605600-1720627200@gumptownmag.com
SUMMARY:Montgomery Games
DESCRIPTION:
URL:https://gumptownmag.com/event/montgomery-games/
LOCATION:Multiplex\, 220 Hall Street\, Montgomery
ATTACH;FMTTYPE=image/jpeg:https://gumptownmag.com/wp-content/uploads/2024/05/FB_IMG_1715634321500.jpg
END:VEVENT
BEGIN:VEVENT
DTSTART;TZID=UTC:20240615T110000
DTEND;TZID=UTC:20240615T170000
DTSTAMP:20260421T224128
CREATED:20240516T212238Z
LAST-MODIFIED:20240516T212238Z
UID:23602-1718449200-1718470800@gumptownmag.com
SUMMARY:Rosa Parks Museum Juneteenth Celebration
DESCRIPTION:
URL:https://gumptownmag.com/event/rosa-parks-museum-juneteenth-celebration/
LOCATION:Rosa Parks Museum\, 252 Montgomery Street\, Montgomery\, Alabama\, 36104
ATTACH;FMTTYPE=image/png:https://gumptownmag.com/wp-content/uploads/2024/05/Juneteenth-event-1.png
END:VEVENT
BEGIN:VEVENT
DTSTART;TZID=UTC:20240608T100000
DTEND;TZID=UTC:20240608T130000
DTSTAMP:20260421T224128
CREATED:20240513T203452Z
LAST-MODIFIED:20240513T203452Z
UID:23570-1717840800-1717851600@gumptownmag.com
SUMMARY:Family Resource Expo
DESCRIPTION:
URL:https://gumptownmag.com/event/family-resource-expo/
LOCATION:Family Guidance Center\, 2358 Fairlane Drive\, Montgomery\, AL\, United States
ATTACH;FMTTYPE=image/jpeg:https://gumptownmag.com/wp-content/uploads/2024/05/fgc.jpg
END:VEVENT
BEGIN:VEVENT
DTSTART;TZID=UTC:20240601T110000
DTEND;TZID=UTC:20240601T230000
DTSTAMP:20260421T224128
CREATED:20240513T204007Z
LAST-MODIFIED:20240513T204007Z
UID:23575-1717239600-1717282800@gumptownmag.com
SUMMARY:Southern Soul Music Festival
DESCRIPTION:
URL:https://gumptownmag.com/event/southern-soul-music-festival/
LOCATION:Riverfront Park\, Montgomery\, AL\, United States
ATTACH;FMTTYPE=image/jpeg:https://gumptownmag.com/wp-content/uploads/2024/05/soul-fest2.jpg
END:VEVENT
BEGIN:VEVENT
DTSTART;TZID=UTC:20240531T180000
DTEND;TZID=UTC:20240531T190000
DTSTAMP:20260421T224128
CREATED:20240516T211116Z
LAST-MODIFIED:20240516T211116Z
UID:23592-1717178400-1717182000@gumptownmag.com
SUMMARY:Lowndes County Candlelight Vigil
DESCRIPTION:
URL:https://gumptownmag.com/event/lowndes-county-candlelight-vigil/
LOCATION:Hayneville Town Square\, 241 West Tuskeena Street\, Hayneville\, AL\, 36040\, United States
ATTACH;FMTTYPE=image/jpeg:https://gumptownmag.com/wp-content/uploads/2024/05/IMG_20240515_063049_361.jpg
END:VEVENT
BEGIN:VEVENT
DTSTART;TZID=UTC:20240524T163000
DTEND;TZID=UTC:20240524T193000
DTSTAMP:20260421T224128
CREATED:20240513T204323Z
LAST-MODIFIED:20240513T204323Z
UID:23579-1716568200-1716579000@gumptownmag.com
SUMMARY:Teen Mayfest Carnival
DESCRIPTION:
URL:https://gumptownmag.com/event/teen-mayfest-carnival/
LOCATION:McIntyre Community Center\, 1240 Hugh Street\, Montgomery\, AL\, United States
ATTACH;FMTTYPE=image/jpeg:https://gumptownmag.com/wp-content/uploads/2024/05/teen-fest-1.jpg
END:VEVENT
BEGIN:VEVENT
DTSTART;TZID=UTC:20240522T173000
DTEND;TZID=UTC:20240522T190000
DTSTAMP:20260421T224128
CREATED:20240516T211852Z
LAST-MODIFIED:20240516T211852Z
UID:23599-1716399000-1716404400@gumptownmag.com
SUMMARY:Small and Minority Business Mixer
DESCRIPTION:
URL:https://gumptownmag.com/event/small-and-minority-business-mixer/
LOCATION:The Lab on Dexter\, 150 Dexter Avenue\, Montgomery\, AL\, United States
ATTACH;FMTTYPE=image/jpeg:https://gumptownmag.com/wp-content/uploads/2024/05/IMG_20240515_182231_562.jpg
END:VEVENT
BEGIN:VEVENT
DTSTART;TZID=UTC:20240518T110000
DTEND;TZID=UTC:20240518T200000
DTSTAMP:20260421T224128
CREATED:20240313T201516Z
LAST-MODIFIED:20240313T201516Z
UID:23472-1716030000-1716062400@gumptownmag.com
SUMMARY:River Region Natural Hair Show
DESCRIPTION:
URL:https://gumptownmag.com/event/river-region-natural-hair-show/
LOCATION:Mariott Prattville\, 2500 Legends Circle\, Prattville\, AL\, United States
ATTACH;FMTTYPE=image/jpeg:https://gumptownmag.com/wp-content/uploads/2024/03/IMG_20230909_210250.jpg
END:VEVENT
BEGIN:VEVENT
DTSTART;TZID=UTC:20240518T110000
DTEND;TZID=UTC:20240518T140000
DTSTAMP:20260421T224128
CREATED:20240513T204717Z
LAST-MODIFIED:20240513T204717Z
UID:23584-1716030000-1716040800@gumptownmag.com
SUMMARY:Food and Grooves MayFest
DESCRIPTION:
URL:https://gumptownmag.com/event/food-and-grooves-mayfest/
LOCATION:Rotary Park\, 98 Coosa Street\, Montgomery\, AL\, 36104\, United States
ATTACH;FMTTYPE=image/jpeg:https://gumptownmag.com/wp-content/uploads/2024/05/441416410_947678070696288_6904048646168488684_n.jpg
END:VEVENT
BEGIN:VEVENT
DTSTART;TZID=UTC:20240518T100000
DTEND;TZID=UTC:20240518T130000
DTSTAMP:20260421T224128
CREATED:20240513T205155Z
LAST-MODIFIED:20240513T205155Z
UID:23588-1716026400-1716037200@gumptownmag.com
SUMMARY:Deputy in the Park Day
DESCRIPTION:
URL:https://gumptownmag.com/event/deputy-in-the-park-day/
LOCATION:Montgomery County Activity Center\, 147 Old School House Road\, Grady\, AL\, 36036\, United States
ATTACH;FMTTYPE=image/jpeg:https://gumptownmag.com/wp-content/uploads/2024/05/deputy-day.jpg
END:VEVENT
BEGIN:VEVENT
DTSTART;TZID=UTC:20240502T180000
DTEND;TZID=UTC:20240502T193000
DTSTAMP:20260421T224128
CREATED:20240130T195140Z
LAST-MODIFIED:20240130T195140Z
UID:23402-1714672800-1714678200@gumptownmag.com
SUMMARY:5th Annual Hot Dogs and Heroes
DESCRIPTION:
URL:https://gumptownmag.com/event/5th-annual-hot-dogs-and-heroes/
LOCATION:ALOE Event Center\, 2596 Eastern Blvd\, Montgomery\, AL\, United States
ATTACH;FMTTYPE=image/jpeg:https://gumptownmag.com/wp-content/uploads/2024/01/hot-dog-hero.jpg
END:VEVENT
BEGIN:VEVENT
DTSTART;TZID=UTC:20240420T150000
DTEND;TZID=UTC:20240420T180000
DTSTAMP:20260421T224128
CREATED:20240409T200513Z
LAST-MODIFIED:20240409T200513Z
UID:23507-1713625200-1713636000@gumptownmag.com
SUMMARY:Jazz on the River
DESCRIPTION:Make plans to attend Jazz on the River at the Riverwalk Anphitheater on Saturday\, April 20. Lawn chairs are welcome. Food trucks and other vendors will be on site.
URL:https://gumptownmag.com/event/jazz-on-the-river/
LOCATION:Riverfront Park\, Montgomery\, AL\, United States
ATTACH;FMTTYPE=image/jpeg:https://gumptownmag.com/wp-content/uploads/2024/04/jazz-on-river.jpg
END:VEVENT
BEGIN:VEVENT
DTSTART;TZID=UTC:20240420T130000
DTEND;TZID=UTC:20240420T160000
DTSTAMP:20260421T224128
CREATED:20240409T194241Z
LAST-MODIFIED:20240409T194241Z
UID:23504-1713618000-1713628800@gumptownmag.com
SUMMARY:Battle of the Bands
DESCRIPTION:Battle of the bands at Carver High School in Montgomery on April 20th!
URL:https://gumptownmag.com/event/battle-of-the-bands/
LOCATION:carver high school\, 2001 W. Fairview\, Montgomery\, AL\, United States
ATTACH;FMTTYPE=image/jpeg:https://gumptownmag.com/wp-content/uploads/2024/04/imagejpeg_0.jpg
END:VEVENT
BEGIN:VEVENT
DTSTART;TZID=UTC:20240420T100000
DTEND;TZID=UTC:20240420T140000
DTSTAMP:20260421T224128
CREATED:20240327T204430Z
LAST-MODIFIED:20240327T204430Z
UID:23485-1713607200-1713621600@gumptownmag.com
SUMMARY:STEAM Up Montgomery
DESCRIPTION:Calling all Montgomery parents and middle school students!  Are you ready to ignite a passion for Science\, Technology\, Engineering\, Arts\, and Math (STEAM)?  Montgomery STEAM Up! is a FREE\, one-day event designed to spark curiosity\, encourage exploration\, and empower the next generation of innovators. \nThis exciting event\, Presented by Collaborative Community Learning Labs (Co.L.Labs)\, happening on Saturday\, April 20th from 10am to 2pm\, will provide a fun and engaging introduction to the exciting world of STEAM for students in grades 6-8.  Through interactive workshops\, hands-on activities\, and inspiring talks\, students will: \n●     Explore different STEAM fields: From robotics and coding to animation and 3D printing\, there’s something for every interest! \n●     Meet with STEAM professionals: Learn from experts in various fields and get a glimpse into exciting career possibilities. \n●     Build new skills and make friends: Participate in collaborative activities that encourage creativity\, problem-solving\, and teamwork. \n●     Bonus for Parents! While your child is participating in workshops\, there will be a dedicated session for parents on: \n○      Supporting your child’s STEAM development at home and in school. \n○      Navigating career paths in STEAM fields. \n○      Connecting with other parents who share your interests. \nJoin us for a fun and inspiring day!  \nSpace is limited\, so register your child today!  https://bit.ly/steamupregistration \nDon’t miss this opportunity to spark your child’s curiosity and ignite their passion for STEAM!
URL:https://gumptownmag.com/event/steam-up-montgomery/
LOCATION:Kress on Dexter\, 39 Dexter Avenue\, Montgomery\, AL\, 36104\, United States
ATTACH;FMTTYPE=image/png:https://gumptownmag.com/wp-content/uploads/2024/03/Social-postimage-1.png
END:VEVENT
BEGIN:VEVENT
DTSTART;TZID=UTC:20240415T173000
DTEND;TZID=UTC:20240415T200000
DTSTAMP:20260421T224128
CREATED:20240227T210000Z
LAST-MODIFIED:20240227T210000Z
UID:23441-1713202200-1713211200@gumptownmag.com
SUMMARY:Network N Chill
DESCRIPTION:Event Details and Registration \n\nDate: Monday\, April 15th\, 2024\nRegistration: Secure your spot at https://inmm.group/2024-network-n-chill-networking-series/\n\nNetwork ‘n’ Chill 2024 is set to be an unmissable event for professionals seeking to elevate their networking experience. With a focus on vision\, synergy\, and impact\, attendees can expect an atmosphere ripe for collaboration\, innovation\, and growth.
URL:https://gumptownmag.com/event/network-n-chill-3/
LOCATION:CC’s Daiquirus\, 80 Commerce Street\, Montgomery\, AL\, United States
ATTACH;FMTTYPE=image/jpeg:https://gumptownmag.com/wp-content/uploads/2024/02/unnamed-89.jpg
END:VEVENT
BEGIN:VEVENT
DTSTART;TZID=UTC:20240406T100000
DTEND;TZID=UTC:20240406T120000
DTSTAMP:20260421T224128
CREATED:20240313T200641Z
LAST-MODIFIED:20240313T200641Z
UID:23468-1712397600-1712404800@gumptownmag.com
SUMMARY:Prayer Walk
DESCRIPTION:
URL:https://gumptownmag.com/event/prayer-walk-2/
LOCATION:Peter Crump Elementary School\, 3510 Woodley Road\, Montgomery\, AL\, 36116\, United States
ATTACH;FMTTYPE=image/jpeg:https://gumptownmag.com/wp-content/uploads/2024/03/unnamed-91.jpg
END:VEVENT
BEGIN:VEVENT
DTSTART;TZID=UTC:20240405T190000
DTEND;TZID=UTC:20240405T210000
DTSTAMP:20260421T224128
CREATED:20240319T211007Z
LAST-MODIFIED:20240319T211007Z
UID:23480-1712343600-1712350800@gumptownmag.com
SUMMARY:Denim Ball
DESCRIPTION:Save the date! Delbert B. Madison II Foundation presents The Denim Ball is April 5th at the Kress! Get tickets  here \nhttps://www.eventbrite.com/e/denim-ball-tickets-823319931077
URL:https://gumptownmag.com/event/denim-ball/
LOCATION:Kress on Dexter\, 39 Dexter Avenue\, Montgomery\, AL\, 36104\, United States
ATTACH;FMTTYPE=image/jpeg:https://gumptownmag.com/wp-content/uploads/2024/03/denim-ball.jpg
END:VEVENT
END:VCALENDAR